BEGIN:VCALENDAR
VERSION:2.0
PRODID:-//Jolene Shields Hypnotherapy - ECPv6.15.1.1//NONSGML v1.0//EN
CALSCALE:GREGORIAN
METHOD:PUBLISH
X-WR-CALNAME:Jolene Shields Hypnotherapy
X-ORIGINAL-URL:https://joleneshieldshypnotherapy.com
X-WR-CALDESC:Events for Jolene Shields Hypnotherapy
REFRESH-INTERVAL;VALUE=DURATION:PT1H
X-Robots-Tag:noindex
X-PUBLISHED-TTL:PT1H
BEGIN:VTIMEZONE
TZID:UTC
BEGIN:STANDARD
TZOFFSETFROM:+0000
TZOFFSETTO:+0000
TZNAME:UTC
DTSTART:20180101T000000
END:STANDARD
END:VTIMEZONE
BEGIN:VEVENT
DTSTART;TZID=UTC:20190307T190000
DTEND;TZID=UTC:20190307T213000
DTSTAMP:20260424T100143
CREATED:20190107T233021Z
LAST-MODIFIED:20190124T042727Z
UID:3117-1551985200-1551994200@joleneshieldshypnotherapy.com
SUMMARY:HypnoBirthing Class #2
DESCRIPTION:
URL:https://joleneshieldshypnotherapy.com/event/hypnobirthing-class-2-22/
END:VEVENT
BEGIN:VEVENT
DTSTART;TZID=UTC:20190228T190000
DTEND;TZID=UTC:20190228T213000
DTSTAMP:20260424T100143
CREATED:20190107T232936Z
LAST-MODIFIED:20190124T042612Z
UID:3115-1551380400-1551389400@joleneshieldshypnotherapy.com
SUMMARY:HypnoBirthing The Mongan Method Class #1
DESCRIPTION:Call to register space is limited at 801-942-6175 or email to info@joleneshieldshypnotherapy.com
URL:https://joleneshieldshypnotherapy.com/event/hypnobirthing-the-mongan-method-class-1/
END:VEVENT
BEGIN:VEVENT
DTSTART;TZID=UTC:20190222T190000
DTEND;TZID=UTC:20190222T200000
DTSTAMP:20260424T100143
CREATED:20190107T232759Z
LAST-MODIFIED:20190107T232759Z
UID:3113-1550862000-1550865600@joleneshieldshypnotherapy.com
SUMMARY:HypnoBirthing Information and Registration Meeting
DESCRIPTION:HypnoBirthing The Mongan Method: free for all couples to attend to find out more about this wonderful\, calm\, safe and comfortable birthing process. Please call to confirm your attendance. 801-942-6175
URL:https://joleneshieldshypnotherapy.com/event/hypnobirthing-information-and-registration-meeting-12/
END:VEVENT
BEGIN:VEVENT
DTSTART;TZID=UTC:20190214T190000
DTEND;TZID=UTC:20190214T213000
DTSTAMP:20260424T100143
CREATED:20190124T042104Z
LAST-MODIFIED:20190124T042219Z
UID:3159-1550170800-1550179800@joleneshieldshypnotherapy.com
SUMMARY:HypnoBirthing Class #4
DESCRIPTION:
URL:https://joleneshieldshypnotherapy.com/event/hypnobirthing-class-4-38/
END:VEVENT
BEGIN:VEVENT
DTSTART;TZID=UTC:20190209T100000
DTEND;TZID=UTC:20190209T123000
DTSTAMP:20260424T100143
CREATED:20190124T044852Z
LAST-MODIFIED:20190124T044852Z
UID:3169-1549706400-1549715400@joleneshieldshypnotherapy.com
SUMMARY:Self Hypnosis Class
DESCRIPTION:This class is offered to current program clients only.
URL:https://joleneshieldshypnotherapy.com/event/self-hypnosis-class-5/
END:VEVENT
BEGIN:VEVENT
DTSTART;TZID=UTC:20190207T190000
DTEND;TZID=UTC:20190207T213000
DTSTAMP:20260424T100143
CREATED:20181203T183255Z
LAST-MODIFIED:20190124T042431Z
UID:3036-1549566000-1549575000@joleneshieldshypnotherapy.com
SUMMARY:HypnoBIrthing Class #3
DESCRIPTION:
URL:https://joleneshieldshypnotherapy.com/event/hypnobirthing-class-4-35/
END:VEVENT
BEGIN:VEVENT
DTSTART;TZID=UTC:20190131T190000
DTEND;TZID=UTC:20190131T213000
DTSTAMP:20260424T100143
CREATED:20181010T235347Z
LAST-MODIFIED:20190124T042406Z
UID:2972-1548961200-1548970200@joleneshieldshypnotherapy.com
SUMMARY:HypnoBirthing Class #2
DESCRIPTION:
URL:https://joleneshieldshypnotherapy.com/event/hypnobirthing-class-4-34/
END:VEVENT
BEGIN:VEVENT
DTSTART;TZID=UTC:20190125T190000
DTEND;TZID=UTC:20190125T200000
DTSTAMP:20260424T100143
CREATED:20190107T232553Z
LAST-MODIFIED:20190107T232553Z
UID:3111-1548442800-1548446400@joleneshieldshypnotherapy.com
SUMMARY:HypnoBirthing Information and Registration Meeting
DESCRIPTION:HypnoBirthing The Mongan Method: All are invited to learn more about this wonderful birthing process for the calm\, safe and comfortable birthing you are wanting. Call to confirm your attendance.
URL:https://joleneshieldshypnotherapy.com/event/hypnobirthing-information-and-registration-meeting-11/
END:VEVENT
BEGIN:VEVENT
DTSTART;TZID=UTC:20190124T190000
DTEND;TZID=UTC:20190124T213000
DTSTAMP:20260424T100143
CREATED:20181010T235254Z
LAST-MODIFIED:20190124T042334Z
UID:2970-1548356400-1548365400@joleneshieldshypnotherapy.com
SUMMARY:HypnoBirthing Class #1
DESCRIPTION:
URL:https://joleneshieldshypnotherapy.com/event/hypnobirthing-class-3-23/
END:VEVENT
BEGIN:VEVENT
DTSTART;TZID=UTC:20181228T190000
DTEND;TZID=UTC:20181228T200000
DTSTAMP:20260424T100143
CREATED:20181010T234742Z
LAST-MODIFIED:20181203T182740Z
UID:2961-1546023600-1546027200@joleneshieldshypnotherapy.com
SUMMARY:HypnoBirthing Information and Registration Meeting
DESCRIPTION:Call or email today to register to attend this meeting. You will see couples using this wonderful birthing method for the natural birth you are longing for.
URL:https://joleneshieldshypnotherapy.com/event/hypnobirthing-information-and-registration-meeting-10/
END:VEVENT
BEGIN:VEVENT
DTSTART;TZID=UTC:20181207T190000
DTEND;TZID=UTC:20181207T213000
DTSTAMP:20260424T100143
CREATED:20181203T183354Z
LAST-MODIFIED:20181203T183419Z
UID:3038-1544209200-1544218200@joleneshieldshypnotherapy.com
SUMMARY:HypnoBirthing Class #4
DESCRIPTION:
URL:https://joleneshieldshypnotherapy.com/event/hypnobirthing-class-4-36/
END:VEVENT
BEGIN:VEVENT
DTSTART;TZID=UTC:20181129T190000
DTEND;TZID=UTC:20181129T213000
DTSTAMP:20260424T100143
CREATED:20181010T234139Z
LAST-MODIFIED:20181203T182818Z
UID:2954-1543518000-1543527000@joleneshieldshypnotherapy.com
SUMMARY:HypnoBirthing Class #3
DESCRIPTION:
URL:https://joleneshieldshypnotherapy.com/event/hypnobirthing-class-4-33/
END:VEVENT
BEGIN:VEVENT
DTSTART;TZID=UTC:20181124T190000
DTEND;TZID=UTC:20181124T200000
DTSTAMP:20260424T100143
CREATED:20181010T234553Z
LAST-MODIFIED:20181010T234855Z
UID:2959-1543086000-1543089600@joleneshieldshypnotherapy.com
SUMMARY:HypnoBirthing Information and Registration Meeting
DESCRIPTION:Call or email today to register for this great class. Come and learn more about this comfortable and easy way to have the birth of your dreams
URL:https://joleneshieldshypnotherapy.com/event/hypnobirthing-information-and-registration-meeting-9/
END:VEVENT
BEGIN:VEVENT
DTSTART;TZID=UTC:20181120T190000
DTEND;TZID=UTC:20181120T213000
DTSTAMP:20260424T100143
CREATED:20181010T234103Z
LAST-MODIFIED:20181203T182848Z
UID:2952-1542740400-1542749400@joleneshieldshypnotherapy.com
SUMMARY:HypnoBirthing Class #2
DESCRIPTION:
URL:https://joleneshieldshypnotherapy.com/event/hypnobirthing-class-3-22/
END:VEVENT
BEGIN:VEVENT
DTSTART;TZID=UTC:20181115T190000
DTEND;TZID=UTC:20181115T213000
DTSTAMP:20260424T100143
CREATED:20181010T234014Z
LAST-MODIFIED:20181203T182938Z
UID:2950-1542308400-1542317400@joleneshieldshypnotherapy.com
SUMMARY:HypnoBirthing Class #1
DESCRIPTION:
URL:https://joleneshieldshypnotherapy.com/event/hypnobirthing-class-2-20/
END:VEVENT
BEGIN:VEVENT
DTSTART;TZID=UTC:20181027T190000
DTEND;TZID=UTC:20181027T200000
DTSTAMP:20260424T100143
CREATED:20181010T234433Z
LAST-MODIFIED:20181010T234928Z
UID:2957-1540666800-1540670400@joleneshieldshypnotherapy.com
SUMMARY:HypnoBirthing Information and Registration Meeting
DESCRIPTION:Come and learn more about this comfortable and easy way to give birth naturally. Call or email today to register to attend at 801-942-6175
URL:https://joleneshieldshypnotherapy.com/event/hypnobirthing-information-and-registration-meeting-8/
END:VEVENT
BEGIN:VEVENT
DTSTART;TZID=UTC:20181016T190000
DTEND;TZID=UTC:20181016T213000
DTSTAMP:20260424T100143
CREATED:20181010T233740Z
LAST-MODIFIED:20181010T234217Z
UID:2946-1539716400-1539725400@joleneshieldshypnotherapy.com
SUMMARY:HypnoBirthing Class #4
DESCRIPTION:
URL:https://joleneshieldshypnotherapy.com/event/hypnobirthing-class-4-29/
END:VEVENT
BEGIN:VEVENT
DTSTART;TZID=UTC:20181009T190000
DTEND;TZID=UTC:20181009T213000
DTSTAMP:20260424T100143
CREATED:20180902T223021Z
LAST-MODIFIED:20181010T233652Z
UID:2887-1539111600-1539120600@joleneshieldshypnotherapy.com
SUMMARY:HypnoBirthing Class #3
DESCRIPTION:
URL:https://joleneshieldshypnotherapy.com/event/hypnobirthing-class-4-32/
END:VEVENT
BEGIN:VEVENT
DTSTART;TZID=UTC:20180928T190000
DTEND;TZID=UTC:20180928T200000
DTSTAMP:20260424T100143
CREATED:20180504T175544Z
LAST-MODIFIED:20180719T050353Z
UID:2654-1538161200-1538164800@joleneshieldshypnotherapy.com
SUMMARY:HypnoBirthing Information and Registration Meeting
DESCRIPTION:Come and learn more about this wonderful safe\, comfortable and natural birth process \n  \nKINDLY RSVP TO ATTEND THIS MEETING VIA EMAIL OR PHONE
URL:https://joleneshieldshypnotherapy.com/event/hypnobirthing-information-and-registration-meeting-7/
END:VEVENT
BEGIN:VEVENT
DTSTART;TZID=UTC:20180927T190000
DTEND;TZID=UTC:20180927T213000
DTSTAMP:20260424T100143
CREATED:20180504T175307Z
LAST-MODIFIED:20180902T222817Z
UID:2648-1538074800-1538083800@joleneshieldshypnotherapy.com
SUMMARY:HypnoBirthing Class #2
DESCRIPTION:
URL:https://joleneshieldshypnotherapy.com/event/hypnobirthing-class-2-21/
END:VEVENT
BEGIN:VEVENT
DTSTART;TZID=UTC:20180918T190000
DTEND;TZID=UTC:20180918T213000
DTSTAMP:20260424T100143
CREATED:20180504T174957Z
LAST-MODIFIED:20180902T222658Z
UID:2643-1537297200-1537306200@joleneshieldshypnotherapy.com
SUMMARY:HypnoBirthing Class #1
DESCRIPTION:Classes will begin only if 4 couples are registered and ready to start
URL:https://joleneshieldshypnotherapy.com/event/hypnobirthing-class-1-18/
END:VEVENT
BEGIN:VEVENT
DTSTART;TZID=UTC:20180831T190000
DTEND;TZID=UTC:20180831T200000
DTSTAMP:20260424T100143
CREATED:20180504T175204Z
LAST-MODIFIED:20180719T050443Z
UID:2646-1535742000-1535745600@joleneshieldshypnotherapy.com
SUMMARY:HypnoBirthing Information and Registration Meeting
DESCRIPTION:OPen to everyone to find out more about this wonderful\, safe and comfortable natural birth process \n  \nKINDLY RSVP TO ATTEND THIS MEETING VIA EMAIL OR PHONE
URL:https://joleneshieldshypnotherapy.com/event/hypnobirthing-information-and-registration-meeting-6/
END:VEVENT
BEGIN:VEVENT
DTSTART;TZID=UTC:20180830T190000
DTEND;TZID=UTC:20180830T213000
DTSTAMP:20260424T100143
CREATED:20180620T173902Z
LAST-MODIFIED:20180620T173902Z
UID:2757-1535655600-1535664600@joleneshieldshypnotherapy.com
SUMMARY:HypnoBirthing Class #4
DESCRIPTION:
URL:https://joleneshieldshypnotherapy.com/event/hypnobirthing-class-4-31/
END:VEVENT
BEGIN:VEVENT
DTSTART;TZID=UTC:20180823T190000
DTEND;TZID=UTC:20180823T213000
DTSTAMP:20260424T100143
CREATED:20180620T173758Z
LAST-MODIFIED:20180620T173758Z
UID:2755-1535050800-1535059800@joleneshieldshypnotherapy.com
SUMMARY:HypnoBirthing Class #3
DESCRIPTION:
URL:https://joleneshieldshypnotherapy.com/event/hypnobirthing-class-3-20/
END:VEVENT
BEGIN:VEVENT
DTSTART;TZID=UTC:20180816T190000
DTEND;TZID=UTC:20180816T213000
DTSTAMP:20260424T100143
CREATED:20180504T174729Z
LAST-MODIFIED:20180620T173631Z
UID:2639-1534446000-1534455000@joleneshieldshypnotherapy.com
SUMMARY:HypnoBirthing Class #2
DESCRIPTION:
URL:https://joleneshieldshypnotherapy.com/event/hypnobirthing-class-4-28/
END:VEVENT
BEGIN:VEVENT
DTSTART;TZID=UTC:20180809T190000
DTEND;TZID=UTC:20180809T213000
DTSTAMP:20260424T100143
CREATED:20180504T174637Z
LAST-MODIFIED:20180620T173559Z
UID:2637-1533841200-1533850200@joleneshieldshypnotherapy.com
SUMMARY:HypnoBIrthing Class #1
DESCRIPTION:Call to register today 4 Couples are required to be registered to begin classes 801-942-6175 or email to info@joleneshieldshypnotherapy.com
URL:https://joleneshieldshypnotherapy.com/event/hypnobirthing-class-3-21/
END:VEVENT
BEGIN:VEVENT
DTSTART;TZID=UTC:20180802T190000
DTEND;TZID=UTC:20180802T213000
DTSTAMP:20260424T100143
CREATED:20180620T173400Z
LAST-MODIFIED:20180620T173400Z
UID:2751-1533236400-1533245400@joleneshieldshypnotherapy.com
SUMMARY:HypnoBirthing Class #4
DESCRIPTION:
URL:https://joleneshieldshypnotherapy.com/event/hypnobirthing-class-4-30/
END:VEVENT
BEGIN:VEVENT
DTSTART;TZID=UTC:20180727T190000
DTEND;TZID=UTC:20180727T200000
DTSTAMP:20260424T100143
CREATED:20180504T174859Z
LAST-MODIFIED:20180719T050304Z
UID:2641-1532718000-1532721600@joleneshieldshypnotherapy.com
SUMMARY:HypnoBirthing Information and Registration Meeting
DESCRIPTION:Come learn more about this wonderful safe and comfortable birth process that you will use for a lifetime!! \nKINDLY RSVP THIS MEETING VIA PHONE OR EMAIL
URL:https://joleneshieldshypnotherapy.com/event/hypnobirthing-information-and-registration-meeting-5/
END:VEVENT
BEGIN:VEVENT
DTSTART;TZID=UTC:20180726T190000
DTEND;TZID=UTC:20180726T213000
DTSTAMP:20260424T100143
CREATED:20180504T174523Z
LAST-MODIFIED:20180620T173319Z
UID:2633-1532631600-1532640600@joleneshieldshypnotherapy.com
SUMMARY:HypnoBirthing Class #3
DESCRIPTION:Classes will begin only when 4 couples are registered and ready to begin.
URL:https://joleneshieldshypnotherapy.com/event/hypnobirthing-class-1-17/
END:VEVENT
BEGIN:VEVENT
DTSTART;TZID=UTC:20180719T190000
DTEND;TZID=UTC:20180719T213000
DTSTAMP:20260424T100143
CREATED:20180620T173248Z
LAST-MODIFIED:20180620T173248Z
UID:2748-1532026800-1532035800@joleneshieldshypnotherapy.com
SUMMARY:HypnoBirthing Class #2
DESCRIPTION:
URL:https://joleneshieldshypnotherapy.com/event/hypnobirthing-class-2-18/
END:VEVENT
END:VCALENDAR