BEGIN:VCALENDAR
VERSION:2.0
PRODID:-//Jolene Shields Hypnotherapy - ECPv6.15.1.1//NONSGML v1.0//EN
CALSCALE:GREGORIAN
METHOD:PUBLISH
X-WR-CALNAME:Jolene Shields Hypnotherapy
X-ORIGINAL-URL:https://joleneshieldshypnotherapy.com
X-WR-CALDESC:Events for Jolene Shields Hypnotherapy
REFRESH-INTERVAL;VALUE=DURATION:PT1H
X-Robots-Tag:noindex
X-PUBLISHED-TTL:PT1H
BEGIN:VTIMEZONE
TZID:UTC
BEGIN:STANDARD
TZOFFSETFROM:+0000
TZOFFSETTO:+0000
TZNAME:UTC
DTSTART:20180101T000000
END:STANDARD
END:VTIMEZONE
BEGIN:VEVENT
DTSTART;TZID=UTC:20190821T190000
DTEND;TZID=UTC:20190821T213000
DTSTAMP:20260424T063727
CREATED:20190821T170713Z
LAST-MODIFIED:20190821T170713Z
UID:3544-1566414000-1566423000@joleneshieldshypnotherapy.com
SUMMARY:HypnoBirthing Class #4
DESCRIPTION:
URL:https://joleneshieldshypnotherapy.com/event/hypnobirthing-class-4-43/
LOCATION:UT
END:VEVENT
BEGIN:VEVENT
DTSTART;TZID=UTC:20190821T190000
DTEND;TZID=UTC:20190821T213000
DTSTAMP:20260424T063727
CREATED:20190821T170639Z
LAST-MODIFIED:20190821T170639Z
UID:3542-1566414000-1566423000@joleneshieldshypnotherapy.com
SUMMARY:HypnoBirthing Class #3
DESCRIPTION:
URL:https://joleneshieldshypnotherapy.com/event/hypnobirthing-class-3-28/
LOCATION:UT
END:VEVENT
BEGIN:VEVENT
DTSTART;TZID=UTC:20190726T190000
DTEND;TZID=UTC:20190726T200000
DTSTAMP:20260424T063727
CREATED:20190623T053416Z
LAST-MODIFIED:20190719T210422Z
UID:3463-1564167600-1564171200@joleneshieldshypnotherapy.com
SUMMARY:HypnoBirthing Information and Registration Meeting
DESCRIPTION:Free and open to everyone. Come and learn more about tis wonderful\, popular birthing method and enjoy the natural birth of your dreams. Please RSVP to 801-942-6175 or info@joleneshieldshypnotherapy.com
URL:https://joleneshieldshypnotherapy.com/event/hypnobirthing-information-and-registration-meeting-15/
LOCATION:Jolene Shields Hypnotherapy\, 308 East 4500 South #280\, Salt Lake City\, Ut.\, UT\, 84107\, United States
END:VEVENT
BEGIN:VEVENT
DTSTART;TZID=UTC:20190711T190000
DTEND;TZID=UTC:20190711T213000
DTSTAMP:20260424T063727
CREATED:20190501T230427Z
LAST-MODIFIED:20190611T184506Z
UID:3350-1562871600-1562880600@joleneshieldshypnotherapy.com
SUMMARY:HypnoBirthing Class #4
DESCRIPTION:
URL:https://joleneshieldshypnotherapy.com/event/hypnobirthing-class-4-40/
LOCATION:Jolene Shields Hypnotherapy\, 308 East 4500 South #280\, Salt Lake City\, Ut.\, UT\, 84107\, United States
END:VEVENT
BEGIN:VEVENT
DTSTART;TZID=UTC:20190629T100000
DTEND;TZID=UTC:20190629T123000
DTSTAMP:20260424T063727
CREATED:20190526T054614Z
LAST-MODIFIED:20190526T054614Z
UID:3386-1561802400-1561811400@joleneshieldshypnotherapy.com
SUMMARY:Self Hypnosis Class
DESCRIPTION:For participating program members only. ALL clients must RSVP
URL:https://joleneshieldshypnotherapy.com/event/self-hypnosis-class-6/
LOCATION:Jolene Shields Hypnotherapy\, 308 East 4500 South #280\, Salt Lake City\, Ut.\, UT\, 84107\, United States
END:VEVENT
BEGIN:VEVENT
DTSTART;TZID=UTC:20190628T190000
DTEND;TZID=UTC:20190628T200000
DTSTAMP:20260424T063727
CREATED:20190501T230640Z
LAST-MODIFIED:20190501T230818Z
UID:3352-1561748400-1561752000@joleneshieldshypnotherapy.com
SUMMARY:HypnoBirthing Information and Registration Meeting
DESCRIPTION:Come and learn more about the BEST birthing process available. Free event open to all!! Please confirm your attendance via email or phone at 801-942-6175 or info@joleneshieldshypnotherapy.com
URL:https://joleneshieldshypnotherapy.com/event/hypnobirthing-information-and-registration-meeting-14/
LOCATION:Jolene Shields Hypnotherapy\, 308 East 4500 South #280\, Salt Lake City\, Ut.\, UT\, 84107\, United States
END:VEVENT
BEGIN:VEVENT
DTSTART;TZID=UTC:20190627T190000
DTEND;TZID=UTC:20190627T213000
DTSTAMP:20260424T063727
CREATED:20190501T230336Z
LAST-MODIFIED:20190611T184406Z
UID:3348-1561662000-1561671000@joleneshieldshypnotherapy.com
SUMMARY:HypnoBirthing Class #3
DESCRIPTION:
URL:https://joleneshieldshypnotherapy.com/event/hypnobirthing-class-3-27/
LOCATION:Jolene Shields Hypnotherapy\, 308 East 4500 South #280\, Salt Lake City\, Ut.\, UT\, 84107\, United States
END:VEVENT
BEGIN:VEVENT
DTSTART;TZID=UTC:20190620T070000
DTEND;TZID=UTC:20190620T213000
DTSTAMP:20260424T063727
CREATED:20190501T230251Z
LAST-MODIFIED:20190611T184321Z
UID:3346-1561014000-1561066200@joleneshieldshypnotherapy.com
SUMMARY:HypnoBirthing Class #2
DESCRIPTION:
URL:https://joleneshieldshypnotherapy.com/event/hypnobirthing-class-2-24/
LOCATION:Jolene Shields Hypnotherapy\, 308 East 4500 South #280\, Salt Lake City\, Ut.\, UT\, 84107\, United States
END:VEVENT
BEGIN:VEVENT
DTSTART;TZID=UTC:20190613T190000
DTEND;TZID=UTC:20190613T213000
DTSTAMP:20260424T063727
CREATED:20190501T230203Z
LAST-MODIFIED:20190611T184232Z
UID:3344-1560452400-1560461400@joleneshieldshypnotherapy.com
SUMMARY:June HypnoBirthing Class  #1
DESCRIPTION:Sign up soon\, space fills up quickly. Call today to register for THE BEST Birthing class available to you. Enjoy the calm\, comfortable birth of your dreams. 801-942-6175 or email to info@joleneshieldshypnotherapy.com
URL:https://joleneshieldshypnotherapy.com/event/june-hypnobirthing-class-1/
LOCATION:Jolene Shields Hypnotherapy\, 308 East 4500 South #280\, Salt Lake City\, Ut.\, UT\, 84107\, United States
END:VEVENT
BEGIN:VEVENT
DTSTART;TZID=UTC:20190611T180000
DTEND;TZID=UTC:20190611T190000
DTSTAMP:20260424T063727
CREATED:20190604T152357Z
LAST-MODIFIED:20190604T152357Z
UID:3423-1560276000-1560279600@joleneshieldshypnotherapy.com
SUMMARY:Park City HypnoBirthing Information Meeting
DESCRIPTION:
URL:https://joleneshieldshypnotherapy.com/event/park-city-hypnobirthing-information-meeting/
LOCATION:Blair Education Center at Park City Hospital\, 900 Round Valley Drive North end of Hospital\, Park City Utah\, UT\, 84060\, United States
END:VEVENT
BEGIN:VEVENT
DTSTART;TZID=UTC:20190531T190000
DTEND;TZID=UTC:20190531T213000
DTSTAMP:20260424T063727
CREATED:20190315T171711Z
LAST-MODIFIED:20190315T171711Z
UID:3262-1559329200-1559338200@joleneshieldshypnotherapy.com
SUMMARY:HypnoBirthing Registration and Information Meeting
DESCRIPTION:Open to all expecting couples. Come and find out more about this comfortable and easy birth method. Please call to register at 801-942-6175 or email to info@joleneshieldshypnotherapy.com
URL:https://joleneshieldshypnotherapy.com/event/hypnobirthing-registration-and-information-meeting-4/
LOCATION:Jolene Shields Hypnotherapy\, 308 East 4500 South #280\, Salt Lake City\, Ut.\, UT\, 84107\, United States
END:VEVENT
BEGIN:VEVENT
DTSTART;TZID=UTC:20190516T190000
DTEND;TZID=UTC:20190516T213000
DTSTAMP:20260424T063727
CREATED:20190315T170421Z
LAST-MODIFIED:20190315T170451Z
UID:3260-1558033200-1558042200@joleneshieldshypnotherapy.com
SUMMARY:HypnoBIrthing Class #4
DESCRIPTION:
URL:https://joleneshieldshypnotherapy.com/event/hypnobirthing-class-4-39/
LOCATION:UT
END:VEVENT
BEGIN:VEVENT
DTSTART;TZID=UTC:20190509T190000
DTEND;TZID=UTC:20190509T213000
DTSTAMP:20260424T063727
CREATED:20190315T170338Z
LAST-MODIFIED:20190315T170639Z
UID:3258-1557428400-1557437400@joleneshieldshypnotherapy.com
SUMMARY:HypnoBirthing Class #3
DESCRIPTION:
URL:https://joleneshieldshypnotherapy.com/event/hypnobirthing-class-3-26/
LOCATION:Jolene Shields Hypnotherapy\, 1151 East 3900 So. #B299\, Salt Lake CIty\, UT\, 84124\, United States
END:VEVENT
BEGIN:VEVENT
DTSTART;TZID=UTC:20190502T190000
DTEND;TZID=UTC:20190502T213000
DTSTAMP:20260424T063727
CREATED:20190315T165405Z
LAST-MODIFIED:20190315T165405Z
UID:3247-1556823600-1556832600@joleneshieldshypnotherapy.com
SUMMARY:HypnoBirthing Class #2
DESCRIPTION:
URL:https://joleneshieldshypnotherapy.com/event/hypnobirthing-class-2-23/
LOCATION:UT
END:VEVENT
BEGIN:VEVENT
DTSTART;TZID=UTC:20190426T190000
DTEND;TZID=UTC:20190426T200000
DTSTAMP:20260424T063727
CREATED:20190315T165236Z
LAST-MODIFIED:20190315T170201Z
UID:3245-1556305200-1556308800@joleneshieldshypnotherapy.com
SUMMARY:HypnoBirthing Information and Registration Meeting
DESCRIPTION:Call to hold your spot classes fill up quickly. 801-942-6175 or email to info@joleneshieldshypnotherapy.com
URL:https://joleneshieldshypnotherapy.com/event/hypnobirthing-april-classes-1/
LOCATION:UT
END:VEVENT
BEGIN:VEVENT
DTSTART;TZID=UTC:20190425T190000
DTEND;TZID=UTC:20190425T213000
DTSTAMP:20260424T063727
CREATED:20190315T165448Z
LAST-MODIFIED:20190315T170546Z
UID:3249-1556218800-1556227800@joleneshieldshypnotherapy.com
SUMMARY:HypnoBirthing Class #1
DESCRIPTION:Call to hold your spot today. Classes fill up quickly 801-942-6175 or email to info@joleneshieldshypnotherapy.com
URL:https://joleneshieldshypnotherapy.com/event/hypnobirthing-class-3-25/
LOCATION:UT
END:VEVENT
BEGIN:VEVENT
DTSTART;TZID=UTC:20190408T190000
DTEND;TZID=UTC:20190408T213000
DTSTAMP:20260424T063727
CREATED:20190324T204659Z
LAST-MODIFIED:20190324T204659Z
UID:3283-1554750000-1554759000@joleneshieldshypnotherapy.com
SUMMARY:Make Up HypnoBirthing Class #4
DESCRIPTION:
URL:https://joleneshieldshypnotherapy.com/event/make-up-hypnobirthing-class-4/
LOCATION:Jolene Shields Hypnotherapy\, 308 East 4500 South #280\, Salt Lake City\, Ut.\, UT\, 84107\, United States
END:VEVENT
BEGIN:VEVENT
DTSTART;TZID=UTC:20190329T190000
DTEND;TZID=UTC:20190329T200000
DTSTAMP:20260424T063727
CREATED:20190107T233316Z
LAST-MODIFIED:20190107T233316Z
UID:3123-1553886000-1553889600@joleneshieldshypnotherapy.com
SUMMARY:HypnoBirthing Information and Registration Meeting
DESCRIPTION:All are welcome to attend and learn more about this safe\, calm and comfortable birthing method. Please call to confirm your attendance at 801-942-6175
URL:https://joleneshieldshypnotherapy.com/event/hypnobirthing-information-and-registration-meeting-13/
LOCATION:UT
END:VEVENT
BEGIN:VEVENT
DTSTART;TZID=UTC:20190321T190000
DTEND;TZID=UTC:20190321T213000
DTSTAMP:20260424T063727
CREATED:20190107T233137Z
LAST-MODIFIED:20190124T043004Z
UID:3121-1553194800-1553203800@joleneshieldshypnotherapy.com
SUMMARY:HypnoBirthing Class #4
DESCRIPTION:
URL:https://joleneshieldshypnotherapy.com/event/hypnobirthing-class-4-37/
LOCATION:UT
END:VEVENT
BEGIN:VEVENT
DTSTART;TZID=UTC:20190314T190000
DTEND;TZID=UTC:20190314T213000
DTSTAMP:20260424T063727
CREATED:20190107T233059Z
LAST-MODIFIED:20190124T042926Z
UID:3119-1552590000-1552599000@joleneshieldshypnotherapy.com
SUMMARY:HypnoBirthing Class #3
DESCRIPTION:
URL:https://joleneshieldshypnotherapy.com/event/hypnobirthing-class-3-24/
LOCATION:UT
END:VEVENT
BEGIN:VEVENT
DTSTART;TZID=UTC:20190307T190000
DTEND;TZID=UTC:20190307T213000
DTSTAMP:20260424T063727
CREATED:20190107T233021Z
LAST-MODIFIED:20190124T042727Z
UID:3117-1551985200-1551994200@joleneshieldshypnotherapy.com
SUMMARY:HypnoBirthing Class #2
DESCRIPTION:
URL:https://joleneshieldshypnotherapy.com/event/hypnobirthing-class-2-22/
LOCATION:UT
END:VEVENT
BEGIN:VEVENT
DTSTART;TZID=UTC:20190228T190000
DTEND;TZID=UTC:20190228T213000
DTSTAMP:20260424T063727
CREATED:20190107T232936Z
LAST-MODIFIED:20190124T042612Z
UID:3115-1551380400-1551389400@joleneshieldshypnotherapy.com
SUMMARY:HypnoBirthing The Mongan Method Class #1
DESCRIPTION:Call to register space is limited at 801-942-6175 or email to info@joleneshieldshypnotherapy.com
URL:https://joleneshieldshypnotherapy.com/event/hypnobirthing-the-mongan-method-class-1/
LOCATION:UT
END:VEVENT
BEGIN:VEVENT
DTSTART;TZID=UTC:20190222T190000
DTEND;TZID=UTC:20190222T200000
DTSTAMP:20260424T063727
CREATED:20190107T232759Z
LAST-MODIFIED:20190107T232759Z
UID:3113-1550862000-1550865600@joleneshieldshypnotherapy.com
SUMMARY:HypnoBirthing Information and Registration Meeting
DESCRIPTION:HypnoBirthing The Mongan Method: free for all couples to attend to find out more about this wonderful\, calm\, safe and comfortable birthing process. Please call to confirm your attendance. 801-942-6175
URL:https://joleneshieldshypnotherapy.com/event/hypnobirthing-information-and-registration-meeting-12/
LOCATION:UT
END:VEVENT
BEGIN:VEVENT
DTSTART;TZID=UTC:20190214T190000
DTEND;TZID=UTC:20190214T213000
DTSTAMP:20260424T063727
CREATED:20190124T042104Z
LAST-MODIFIED:20190124T042219Z
UID:3159-1550170800-1550179800@joleneshieldshypnotherapy.com
SUMMARY:HypnoBirthing Class #4
DESCRIPTION:
URL:https://joleneshieldshypnotherapy.com/event/hypnobirthing-class-4-38/
LOCATION:UT
END:VEVENT
BEGIN:VEVENT
DTSTART;TZID=UTC:20190209T100000
DTEND;TZID=UTC:20190209T123000
DTSTAMP:20260424T063727
CREATED:20190124T044852Z
LAST-MODIFIED:20190124T044852Z
UID:3169-1549706400-1549715400@joleneshieldshypnotherapy.com
SUMMARY:Self Hypnosis Class
DESCRIPTION:This class is offered to current program clients only.
URL:https://joleneshieldshypnotherapy.com/event/self-hypnosis-class-5/
LOCATION:UT
END:VEVENT
BEGIN:VEVENT
DTSTART;TZID=UTC:20190207T190000
DTEND;TZID=UTC:20190207T213000
DTSTAMP:20260424T063727
CREATED:20181203T183255Z
LAST-MODIFIED:20190124T042431Z
UID:3036-1549566000-1549575000@joleneshieldshypnotherapy.com
SUMMARY:HypnoBIrthing Class #3
DESCRIPTION:
URL:https://joleneshieldshypnotherapy.com/event/hypnobirthing-class-4-35/
LOCATION:UT
END:VEVENT
BEGIN:VEVENT
DTSTART;TZID=UTC:20190131T190000
DTEND;TZID=UTC:20190131T213000
DTSTAMP:20260424T063727
CREATED:20181010T235347Z
LAST-MODIFIED:20190124T042406Z
UID:2972-1548961200-1548970200@joleneshieldshypnotherapy.com
SUMMARY:HypnoBirthing Class #2
DESCRIPTION:
URL:https://joleneshieldshypnotherapy.com/event/hypnobirthing-class-4-34/
LOCATION:UT
END:VEVENT
BEGIN:VEVENT
DTSTART;TZID=UTC:20190125T190000
DTEND;TZID=UTC:20190125T200000
DTSTAMP:20260424T063727
CREATED:20190107T232553Z
LAST-MODIFIED:20190107T232553Z
UID:3111-1548442800-1548446400@joleneshieldshypnotherapy.com
SUMMARY:HypnoBirthing Information and Registration Meeting
DESCRIPTION:HypnoBirthing The Mongan Method: All are invited to learn more about this wonderful birthing process for the calm\, safe and comfortable birthing you are wanting. Call to confirm your attendance.
URL:https://joleneshieldshypnotherapy.com/event/hypnobirthing-information-and-registration-meeting-11/
LOCATION:UT
END:VEVENT
BEGIN:VEVENT
DTSTART;TZID=UTC:20190124T190000
DTEND;TZID=UTC:20190124T213000
DTSTAMP:20260424T063727
CREATED:20181010T235254Z
LAST-MODIFIED:20190124T042334Z
UID:2970-1548356400-1548365400@joleneshieldshypnotherapy.com
SUMMARY:HypnoBirthing Class #1
DESCRIPTION:
URL:https://joleneshieldshypnotherapy.com/event/hypnobirthing-class-3-23/
LOCATION:UT
END:VEVENT
BEGIN:VEVENT
DTSTART;TZID=UTC:20181228T190000
DTEND;TZID=UTC:20181228T200000
DTSTAMP:20260424T063727
CREATED:20181010T234742Z
LAST-MODIFIED:20181203T182740Z
UID:2961-1546023600-1546027200@joleneshieldshypnotherapy.com
SUMMARY:HypnoBirthing Information and Registration Meeting
DESCRIPTION:Call or email today to register to attend this meeting. You will see couples using this wonderful birthing method for the natural birth you are longing for.
URL:https://joleneshieldshypnotherapy.com/event/hypnobirthing-information-and-registration-meeting-10/
LOCATION:UT
END:VEVENT
END:VCALENDAR