BEGIN:VCALENDAR
VERSION:2.0
PRODID:-//Jolene Shields Hypnotherapy - ECPv6.15.1.1//NONSGML v1.0//EN
CALSCALE:GREGORIAN
METHOD:PUBLISH
X-ORIGINAL-URL:https://joleneshieldshypnotherapy.com
X-WR-CALDESC:Events for Jolene Shields Hypnotherapy
REFRESH-INTERVAL;VALUE=DURATION:PT1H
X-Robots-Tag:noindex
X-PUBLISHED-TTL:PT1H
BEGIN:VTIMEZONE
TZID:UTC
BEGIN:STANDARD
TZOFFSETFROM:+0000
TZOFFSETTO:+0000
TZNAME:UTC
DTSTART:20190101T000000
END:STANDARD
END:VTIMEZONE
BEGIN:VEVENT
DTSTART;TZID=UTC:20200206T190000
DTEND;TZID=UTC:20200206T213000
DTSTAMP:20260424T025502
CREATED:20191209T185018Z
LAST-MODIFIED:20191209T185018Z
UID:3707-1581015600-1581024600@joleneshieldshypnotherapy.com
SUMMARY:HypnoBirthing Class #4
DESCRIPTION:
URL:https://joleneshieldshypnotherapy.com/event/hypnobirthing-class-4-46/
LOCATION:Jolene Shields Hypnotherapy\, 308 East 4500 South #280\, Salt Lake City\, Ut.\, UT\, 84107\, United States
END:VEVENT
BEGIN:VEVENT
DTSTART;TZID=UTC:20200131T190000
DTEND;TZID=UTC:20200131T200000
DTSTAMP:20260424T025502
CREATED:20191209T185249Z
LAST-MODIFIED:20200121T200853Z
UID:3709-1580497200-1580500800@joleneshieldshypnotherapy.com
SUMMARY:HypnoBirthing Information And Registration Meeting
DESCRIPTION:Open to all interested moms who would like a calm and comfortable birth process. RSVP IS REQUIRED!! 801-942-6175 or email to info@joleneshieldshypnotherapy.com \nThis is the original trademarked Mongan Method\, don’t accept others that fall short!!! Sign up now for this comprehensive class to learn all the techniques you will need for the calm and comfortable birth of your dreams. 801-942-6175 or email to info@joleneshieldshypnotherapy.com \n 
URL:https://joleneshieldshypnotherapy.com/event/hypnobirthing-information-and-registration-meeting-17/
LOCATION:UT
END:VEVENT
BEGIN:VEVENT
DTSTART;TZID=UTC:20200130T190000
DTEND;TZID=UTC:20200130T213000
DTSTAMP:20260424T025502
CREATED:20191209T184850Z
LAST-MODIFIED:20191209T184920Z
UID:3704-1580410800-1580419800@joleneshieldshypnotherapy.com
SUMMARY:HypnoBirthing Class #3
DESCRIPTION:
URL:https://joleneshieldshypnotherapy.com/event/hypnobirthing-class-33/
LOCATION:Jolene Shields Hypnotherapy\, 308 East 4500 South #280\, Salt Lake City\, Ut.\, UT\, 84107\, United States
END:VEVENT
BEGIN:VEVENT
DTSTART;TZID=UTC:20200123T190000
DTEND;TZID=UTC:20200123T213000
DTSTAMP:20260424T025502
CREATED:20191209T184810Z
LAST-MODIFIED:20191209T184810Z
UID:3702-1579806000-1579815000@joleneshieldshypnotherapy.com
SUMMARY:HypnoBirthing Class #2
DESCRIPTION:
URL:https://joleneshieldshypnotherapy.com/event/hypnobirthing-class-2-28/
LOCATION:Jolene Shields Hypnotherapy\, 308 East 4500 South #280\, Salt Lake City\, Ut.\, UT\, 84107\, United States
END:VEVENT
BEGIN:VEVENT
DTSTART;TZID=UTC:20200116T190000
DTEND;TZID=UTC:20200116T213000
DTSTAMP:20260424T025502
CREATED:20191111T175325Z
LAST-MODIFIED:20191111T175325Z
UID:3672-1579201200-1579210200@joleneshieldshypnotherapy.com
SUMMARY:HypnoBirthing Class #1
DESCRIPTION:Each new class requires at least 4 couples registered and ready to begin the process\, so if you are interested do not delay in calling today!!! 801-942-6175 or email to info@joleneshieldshypnotherapy.com
URL:https://joleneshieldshypnotherapy.com/event/hypnobirthing-class-1-21/
LOCATION:UT
END:VEVENT
BEGIN:VEVENT
DTSTART;TZID=UTC:20191227T190000
DTEND;TZID=UTC:20191227T200000
DTSTAMP:20260424T025502
CREATED:20191111T175020Z
LAST-MODIFIED:20191111T175039Z
UID:3670-1577473200-1577476800@joleneshieldshypnotherapy.com
SUMMARY:HypnoBirthing Information and Registration Meeting
DESCRIPTION:Come and learn more and sign up for January Class!! All MUST RSVP 801-942-6175 or email to info@joleneshieldshypnotherapy.com
URL:https://joleneshieldshypnotherapy.com/event/hypnobirthing-information-and-registration-meeting-16/
LOCATION:Jolene Shields Hypnotherapy\, 308 East 4500 South #280\, Salt Lake City\, Ut.\, UT\, 84107\, United States
END:VEVENT
BEGIN:VEVENT
DTSTART;TZID=UTC:20191205T190000
DTEND;TZID=UTC:20191205T213000
DTSTAMP:20260424T025502
CREATED:20191111T174819Z
LAST-MODIFIED:20191111T174819Z
UID:3668-1575572400-1575581400@joleneshieldshypnotherapy.com
SUMMARY:HypnoBIrthing Class #4
DESCRIPTION:
URL:https://joleneshieldshypnotherapy.com/event/hypnobirthing-class-4-45/
LOCATION:Jolene Shields Hypnotherapy\, 308 East 4500 South #280\, Salt Lake City\, Ut.\, UT\, 84107\, United States
END:VEVENT
BEGIN:VEVENT
DTSTART;TZID=UTC:20191126T190000
DTEND;TZID=UTC:20191126T213000
DTSTAMP:20260424T025502
CREATED:20191111T174733Z
LAST-MODIFIED:20191111T174733Z
UID:3666-1574794800-1574803800@joleneshieldshypnotherapy.com
SUMMARY:HypnoBirthing Class #3
DESCRIPTION:
URL:https://joleneshieldshypnotherapy.com/event/hypnobirthing-class-3-30/
LOCATION:Jolene Shields Hypnotherapy\, 1151 East 3900 So. #B299\, Salt Lake CIty\, UT\, 84124\, United States
END:VEVENT
BEGIN:VEVENT
DTSTART;TZID=UTC:20191121T190000
DTEND;TZID=UTC:20191121T213000
DTSTAMP:20260424T025502
CREATED:20191111T174652Z
LAST-MODIFIED:20191111T174652Z
UID:3664-1574362800-1574371800@joleneshieldshypnotherapy.com
SUMMARY:HypnoBirthing Class #2
DESCRIPTION:
URL:https://joleneshieldshypnotherapy.com/event/hypnobirthing-class-2-27/
LOCATION:Jolene Shields Hypnotherapy\, 308 East 4500 South #280\, Salt Lake City\, Ut.\, UT\, 84107\, United States
END:VEVENT
BEGIN:VEVENT
DTSTART;TZID=UTC:20191114T190000
DTEND;TZID=UTC:20191114T213000
DTSTAMP:20260424T025502
CREATED:20191029T173832Z
LAST-MODIFIED:20191029T173832Z
UID:3650-1573758000-1573767000@joleneshieldshypnotherapy.com
SUMMARY:HypnoBirthing Class #1
DESCRIPTION:Please call to register for this great birthing technique that you will use for your birthing and beyond. 801-942-6175 or email to info@joleneshieldshypnothrapy.com \n 
URL:https://joleneshieldshypnotherapy.com/event/hypnobirthing-class-1-20/
LOCATION:Jolene Shields Hypnotherapy\, 308 East 4500 South #280\, Salt Lake City\, Ut.\, UT\, 84107\, United States
END:VEVENT
BEGIN:VEVENT
DTSTART;TZID=UTC:20191108T190000
DTEND;TZID=UTC:20191108T200000
DTSTAMP:20260424T025502
CREATED:20190923T175418Z
LAST-MODIFIED:20191029T173559Z
UID:3589-1573239600-1573243200@joleneshieldshypnotherapy.com
SUMMARY:HypnoBirthing Free Information and Registration Meeting
DESCRIPTION:Call To RSVP and attend this Free Information Class to learn more about this wonderful\, comfortable and calm birth process. Classes will be scheduled when 4 couples have confirmed and registered for the next class series. 801-942-6175 or email to info@jolenshieldshypnotherapy.com
URL:https://joleneshieldshypnotherapy.com/event/hypnobirthing-free-information-and-registration-meeting-2/
LOCATION:UT
END:VEVENT
BEGIN:VEVENT
DTSTART;TZID=UTC:20191030T190000
DTEND;TZID=UTC:20191030T213000
DTSTAMP:20260424T025502
CREATED:20190821T171222Z
LAST-MODIFIED:20190923T175016Z
UID:3552-1572462000-1572471000@joleneshieldshypnotherapy.com
SUMMARY:HypnoBirthing Class #4
DESCRIPTION:
URL:https://joleneshieldshypnotherapy.com/event/hypnobirthing-class-4-44/
LOCATION:UT
END:VEVENT
BEGIN:VEVENT
DTSTART;TZID=UTC:20191024T190000
DTEND;TZID=UTC:20191024T213000
DTSTAMP:20260424T025502
CREATED:20190821T171121Z
LAST-MODIFIED:20190923T174942Z
UID:3550-1571943600-1571952600@joleneshieldshypnotherapy.com
SUMMARY:HypnoBirthing Class #3
DESCRIPTION:
URL:https://joleneshieldshypnotherapy.com/event/hypnobirthing-class-3-29/
LOCATION:UT
END:VEVENT
BEGIN:VEVENT
DTSTART;TZID=UTC:20191017T190000
DTEND;TZID=UTC:20191017T213000
DTSTAMP:20260424T025502
CREATED:20190821T170601Z
LAST-MODIFIED:20190923T174912Z
UID:3540-1571338800-1571347800@joleneshieldshypnotherapy.com
SUMMARY:HypnoBirthing Class #2
DESCRIPTION:
URL:https://joleneshieldshypnotherapy.com/event/hypnobirthing-class-2-26/
LOCATION:UT
END:VEVENT
BEGIN:VEVENT
DTSTART;TZID=UTC:20191010T190000
DTEND;TZID=UTC:20191010T213000
DTSTAMP:20260424T025502
CREATED:20190623T053029Z
LAST-MODIFIED:20190923T174846Z
UID:3457-1570734000-1570743000@joleneshieldshypnotherapy.com
SUMMARY:HypnoBirthing Class #1
DESCRIPTION:Pleased call today to hold your place for this next class and enjoy the most comfortable and safe birth process available. 801-942-6175 or email at info@joleneshieldshypnotherapy.com \nIf a class has low enrollment\, it may cancel two days before its start date. Your enrollment could be the one that allows the class to run. \n  \n  \n  \n  \n 
URL:https://joleneshieldshypnotherapy.com/event/hypnobirthing-class-2-25/
LOCATION:Jolene Shields Hypnotherapy\, 308 East 4500 South #280\, Salt Lake City\, Ut.\, UT\, 84107\, United States
END:VEVENT
BEGIN:VEVENT
DTSTART;TZID=UTC:20191004T190000
DTEND;TZID=UTC:20191004T200000
DTSTAMP:20260424T025502
CREATED:20190821T170931Z
LAST-MODIFIED:20190923T174806Z
UID:3546-1570215600-1570219200@joleneshieldshypnotherapy.com
SUMMARY:HypnoBirthing Information and Registration Meeting
DESCRIPTION:Please call to RSVP and register for this meeting. Come and learn more about how HypnoBirthing can assist you in having the calm and comfortable brith you are wanting. 801-942-6175 or email to info@joleneshieldshypnotherapy.com \n 
URL:https://joleneshieldshypnotherapy.com/event/hypnobrithing-information-and-registration-meeting/
LOCATION:UT
END:VEVENT
BEGIN:VEVENT
DTSTART;TZID=UTC:20190906T190000
DTEND;TZID=UTC:20190906T200000
DTSTAMP:20260424T025502
CREATED:20190719T210805Z
LAST-MODIFIED:20190826T220625Z
UID:3500-1567796400-1567800000@joleneshieldshypnotherapy.com
SUMMARY:HypnoBirthing Registration and Information Meeting
DESCRIPTION:This meeting requires you to RSVP !!!!  Please come and learn more about this wonderful safe and comfortable way of having the natural birth process you were born to enjoy. 801-942-6175 or info@joleneshieldshypnotherapy.com
URL:https://joleneshieldshypnotherapy.com/event/hypnobirthing-registration-and-information-meeting-5/
LOCATION:UT
END:VEVENT
BEGIN:VEVENT
DTSTART;TZID=UTC:20190905T190000
DTEND;TZID=UTC:20190905T213000
DTSTAMP:20260424T025502
CREATED:20190719T211254Z
LAST-MODIFIED:20190821T165423Z
UID:3502-1567710000-1567719000@joleneshieldshypnotherapy.com
SUMMARY:HypnoBirthing Class #4
DESCRIPTION:Call to hold your place for the next Mongan Method HypnoBirthing Classes. Classes being held are contingent on 4 couples being registered and confirmed. Call Jolene today at 801-942-6175 or email to info@joleneshieldshypnotherapy.com
URL:https://joleneshieldshypnotherapy.com/event/hypnobirthing-class-1-14/
LOCATION:UT
END:VEVENT
BEGIN:VEVENT
DTSTART;TZID=UTC:20190829T080000
DTEND;TZID=UTC:20190829T170000
DTSTAMP:20260424T025502
CREATED:20190719T210535Z
LAST-MODIFIED:20190821T165351Z
UID:3498-1567065600-1567098000@joleneshieldshypnotherapy.com
SUMMARY:HypnoBirthing Class #3
DESCRIPTION:
URL:https://joleneshieldshypnotherapy.com/event/hypnobirthing-class-4-42/
LOCATION:UT
END:VEVENT
BEGIN:VEVENT
DTSTART;TZID=UTC:20190822T190000
DTEND;TZID=UTC:20190822T213000
DTSTAMP:20260424T025502
CREATED:20190623T053207Z
LAST-MODIFIED:20190821T165248Z
UID:3461-1566500400-1566509400@joleneshieldshypnotherapy.com
SUMMARY:HypnoBirthing Class #2
DESCRIPTION:
URL:https://joleneshieldshypnotherapy.com/event/hypnobirthing-class-4-41/
LOCATION:Jolene Shields Hypnotherapy\, 308 East 4500 South #280\, Salt Lake City\, Ut.\, UT\, 84107\, United States
END:VEVENT
BEGIN:VEVENT
DTSTART;TZID=UTC:20190821T190000
DTEND;TZID=UTC:20190821T213000
DTSTAMP:20260424T025502
CREATED:20190821T170713Z
LAST-MODIFIED:20190821T170713Z
UID:3544-1566414000-1566423000@joleneshieldshypnotherapy.com
SUMMARY:HypnoBirthing Class #4
DESCRIPTION:
URL:https://joleneshieldshypnotherapy.com/event/hypnobirthing-class-4-43/
LOCATION:UT
END:VEVENT
BEGIN:VEVENT
DTSTART;TZID=UTC:20190821T190000
DTEND;TZID=UTC:20190821T213000
DTSTAMP:20260424T025502
CREATED:20190821T170639Z
LAST-MODIFIED:20190821T170639Z
UID:3542-1566414000-1566423000@joleneshieldshypnotherapy.com
SUMMARY:HypnoBirthing Class #3
DESCRIPTION:
URL:https://joleneshieldshypnotherapy.com/event/hypnobirthing-class-3-28/
LOCATION:UT
END:VEVENT
BEGIN:VEVENT
DTSTART;TZID=UTC:20190726T190000
DTEND;TZID=UTC:20190726T200000
DTSTAMP:20260424T025502
CREATED:20190623T053416Z
LAST-MODIFIED:20190719T210422Z
UID:3463-1564167600-1564171200@joleneshieldshypnotherapy.com
SUMMARY:HypnoBirthing Information and Registration Meeting
DESCRIPTION:Free and open to everyone. Come and learn more about tis wonderful\, popular birthing method and enjoy the natural birth of your dreams. Please RSVP to 801-942-6175 or info@joleneshieldshypnotherapy.com
URL:https://joleneshieldshypnotherapy.com/event/hypnobirthing-information-and-registration-meeting-15/
LOCATION:Jolene Shields Hypnotherapy\, 308 East 4500 South #280\, Salt Lake City\, Ut.\, UT\, 84107\, United States
END:VEVENT
BEGIN:VEVENT
DTSTART;TZID=UTC:20190711T190000
DTEND;TZID=UTC:20190711T213000
DTSTAMP:20260424T025502
CREATED:20190501T230427Z
LAST-MODIFIED:20190611T184506Z
UID:3350-1562871600-1562880600@joleneshieldshypnotherapy.com
SUMMARY:HypnoBirthing Class #4
DESCRIPTION:
URL:https://joleneshieldshypnotherapy.com/event/hypnobirthing-class-4-40/
LOCATION:Jolene Shields Hypnotherapy\, 308 East 4500 South #280\, Salt Lake City\, Ut.\, UT\, 84107\, United States
END:VEVENT
BEGIN:VEVENT
DTSTART;TZID=UTC:20190629T100000
DTEND;TZID=UTC:20190629T123000
DTSTAMP:20260424T025502
CREATED:20190526T054614Z
LAST-MODIFIED:20190526T054614Z
UID:3386-1561802400-1561811400@joleneshieldshypnotherapy.com
SUMMARY:Self Hypnosis Class
DESCRIPTION:For participating program members only. ALL clients must RSVP
URL:https://joleneshieldshypnotherapy.com/event/self-hypnosis-class-6/
LOCATION:Jolene Shields Hypnotherapy\, 308 East 4500 South #280\, Salt Lake City\, Ut.\, UT\, 84107\, United States
END:VEVENT
BEGIN:VEVENT
DTSTART;TZID=UTC:20190628T190000
DTEND;TZID=UTC:20190628T200000
DTSTAMP:20260424T025502
CREATED:20190501T230640Z
LAST-MODIFIED:20190501T230818Z
UID:3352-1561748400-1561752000@joleneshieldshypnotherapy.com
SUMMARY:HypnoBirthing Information and Registration Meeting
DESCRIPTION:Come and learn more about the BEST birthing process available. Free event open to all!! Please confirm your attendance via email or phone at 801-942-6175 or info@joleneshieldshypnotherapy.com
URL:https://joleneshieldshypnotherapy.com/event/hypnobirthing-information-and-registration-meeting-14/
LOCATION:Jolene Shields Hypnotherapy\, 308 East 4500 South #280\, Salt Lake City\, Ut.\, UT\, 84107\, United States
END:VEVENT
BEGIN:VEVENT
DTSTART;TZID=UTC:20190627T190000
DTEND;TZID=UTC:20190627T213000
DTSTAMP:20260424T025502
CREATED:20190501T230336Z
LAST-MODIFIED:20190611T184406Z
UID:3348-1561662000-1561671000@joleneshieldshypnotherapy.com
SUMMARY:HypnoBirthing Class #3
DESCRIPTION:
URL:https://joleneshieldshypnotherapy.com/event/hypnobirthing-class-3-27/
LOCATION:Jolene Shields Hypnotherapy\, 308 East 4500 South #280\, Salt Lake City\, Ut.\, UT\, 84107\, United States
END:VEVENT
BEGIN:VEVENT
DTSTART;TZID=UTC:20190620T070000
DTEND;TZID=UTC:20190620T213000
DTSTAMP:20260424T025502
CREATED:20190501T230251Z
LAST-MODIFIED:20190611T184321Z
UID:3346-1561014000-1561066200@joleneshieldshypnotherapy.com
SUMMARY:HypnoBirthing Class #2
DESCRIPTION:
URL:https://joleneshieldshypnotherapy.com/event/hypnobirthing-class-2-24/
LOCATION:Jolene Shields Hypnotherapy\, 308 East 4500 South #280\, Salt Lake City\, Ut.\, UT\, 84107\, United States
END:VEVENT
BEGIN:VEVENT
DTSTART;TZID=UTC:20190613T190000
DTEND;TZID=UTC:20190613T213000
DTSTAMP:20260424T025502
CREATED:20190501T230203Z
LAST-MODIFIED:20190611T184232Z
UID:3344-1560452400-1560461400@joleneshieldshypnotherapy.com
SUMMARY:June HypnoBirthing Class  #1
DESCRIPTION:Sign up soon\, space fills up quickly. Call today to register for THE BEST Birthing class available to you. Enjoy the calm\, comfortable birth of your dreams. 801-942-6175 or email to info@joleneshieldshypnotherapy.com
URL:https://joleneshieldshypnotherapy.com/event/june-hypnobirthing-class-1/
LOCATION:Jolene Shields Hypnotherapy\, 308 East 4500 South #280\, Salt Lake City\, Ut.\, UT\, 84107\, United States
END:VEVENT
BEGIN:VEVENT
DTSTART;TZID=UTC:20190611T180000
DTEND;TZID=UTC:20190611T190000
DTSTAMP:20260424T025502
CREATED:20190604T152357Z
LAST-MODIFIED:20190604T152357Z
UID:3423-1560276000-1560279600@joleneshieldshypnotherapy.com
SUMMARY:Park City HypnoBirthing Information Meeting
DESCRIPTION:
URL:https://joleneshieldshypnotherapy.com/event/park-city-hypnobirthing-information-meeting/
LOCATION:Blair Education Center at Park City Hospital\, 900 Round Valley Drive North end of Hospital\, Park City Utah\, UT\, 84060\, United States
END:VEVENT
END:VCALENDAR