BEGIN:VCALENDAR
VERSION:2.0
PRODID:-//Jolene Shields Hypnotherapy - ECPv6.15.1.1//NONSGML v1.0//EN
CALSCALE:GREGORIAN
METHOD:PUBLISH
X-WR-CALNAME:Jolene Shields Hypnotherapy
X-ORIGINAL-URL:https://joleneshieldshypnotherapy.com
X-WR-CALDESC:Events for Jolene Shields Hypnotherapy
REFRESH-INTERVAL;VALUE=DURATION:PT1H
X-Robots-Tag:noindex
X-PUBLISHED-TTL:PT1H
BEGIN:VTIMEZONE
TZID:UTC
BEGIN:STANDARD
TZOFFSETFROM:+0000
TZOFFSETTO:+0000
TZNAME:UTC
DTSTART:20200101T000000
END:STANDARD
END:VTIMEZONE
BEGIN:VEVENT
DTSTART;TZID=UTC:20210812T190000
DTEND;TZID=UTC:20210812T213000
DTSTAMP:20260423T212128
CREATED:20210611T190616Z
LAST-MODIFIED:20210723T175829Z
UID:4738-1628794800-1628803800@joleneshieldshypnotherapy.com
SUMMARY:HypnoBirthing Class #2
DESCRIPTION:
URL:https://joleneshieldshypnotherapy.com/event/hypnobirthing-class-4-50/
END:VEVENT
BEGIN:VEVENT
DTSTART;TZID=UTC:20210805T190000
DTEND;TZID=UTC:20210805T213000
DTSTAMP:20260423T212128
CREATED:20210611T190454Z
LAST-MODIFIED:20210723T175751Z
UID:4735-1628190000-1628199000@joleneshieldshypnotherapy.com
SUMMARY:HypnoBirthing Class #1
DESCRIPTION:This class will be held VIA Zoom format for your convenience and due to the current increased in the Covid outbreak. The class needs to have at least 4 couples registered and ready to begin the process\, so call or email ASAP  801-942-6175 or info@joleneshieldshypnotherapy.com
URL:https://joleneshieldshypnotherapy.com/event/hypnobirthing-class-3-34/
END:VEVENT
BEGIN:VEVENT
DTSTART;TZID=UTC:20210325T190000
DTEND;TZID=UTC:20210325T213000
DTSTAMP:20260423T212128
CREATED:20201217T204424Z
LAST-MODIFIED:20210104T054523Z
UID:4411-1616698800-1616707800@joleneshieldshypnotherapy.com
SUMMARY:HypnoBirthing Zoom Class #4
DESCRIPTION:Call today to hold your spot in this dynamic and top rated birthing class. Call Jolene at Jolene Shields Hypnotherapy 801-942-6175 or email to info@joleneshieldshypnotherapy.com
URL:https://joleneshieldshypnotherapy.com/event/hypnobirthing-zoom-class-4-2/
END:VEVENT
BEGIN:VEVENT
DTSTART;TZID=UTC:20210218T190000
DTEND;TZID=UTC:20210218T213000
DTSTAMP:20260423T212128
CREATED:20201217T204329Z
LAST-MODIFIED:20210104T054449Z
UID:4408-1613674800-1613683800@joleneshieldshypnotherapy.com
SUMMARY:HypnoBirthing Zoom Class #3
DESCRIPTION:Call today to hold your spot in this dynamic and top rated birthing class. Call Jolene at Jolene Shields Hypnotherapy 801-942-6175 or email to info@joleneshieldshypnotherapy.com
URL:https://joleneshieldshypnotherapy.com/event/hypnobirthing-zoom-class-3-2/
END:VEVENT
BEGIN:VEVENT
DTSTART;TZID=UTC:20210212T190000
DTEND;TZID=UTC:20210212T200000
DTSTAMP:20260423T212128
CREATED:20201217T204642Z
LAST-MODIFIED:20210104T054608Z
UID:4413-1613156400-1613160000@joleneshieldshypnotherapy.com
SUMMARY:HypnoBirthing Information and Registration Meeting
DESCRIPTION:This meeting will be held via Zoom!! If you are interested in a natural\, comfortable\, easy birth experience Call today to hold your spot for the January class. 801-942-6175 or email to info@joleneshieldshypnotherapy.com
URL:https://joleneshieldshypnotherapy.com/event/hypnobirthing-information-and-registration-meeting-21/
END:VEVENT
BEGIN:VEVENT
DTSTART;TZID=UTC:20210211T190000
DTEND;TZID=UTC:20210211T213000
DTSTAMP:20260423T212128
CREATED:20201217T204233Z
LAST-MODIFIED:20210104T054418Z
UID:4406-1613070000-1613079000@joleneshieldshypnotherapy.com
SUMMARY:HypnoBirthing Zoom Class #2
DESCRIPTION:Call today to hold your spot in this dynamic and top rated birthing class. Call Jolene at Jolene Shields Hypnotherapy 801-942-6175 or email to info@joleneshieldshypnotherapy.com
URL:https://joleneshieldshypnotherapy.com/event/hypnobirthing-zoom-class-2-2/
END:VEVENT
BEGIN:VEVENT
DTSTART;TZID=UTC:20210204T190000
DTEND;TZID=UTC:20210204T213000
DTSTAMP:20260423T212128
CREATED:20201217T204143Z
LAST-MODIFIED:20210104T054337Z
UID:4404-1612465200-1612474200@joleneshieldshypnotherapy.com
SUMMARY:HypnoBirthing Zoom Class #1
DESCRIPTION:Call today to hold your spot in this dynamic and top rated birthing class. Call Jolene at Jolene Shields Hypnotherapy 801-942-6175 or email to info@joleneshieldshypnotherapy.com
URL:https://joleneshieldshypnotherapy.com/event/hypnobirthing-zoom-class-1-2/
LOCATION:Jolene Shields Hypnotherapy\, 308 East 4500 South #280\, Salt Lake City\, Ut.\, UT\, 84107\, United States
END:VEVENT
BEGIN:VEVENT
DTSTART;TZID=UTC:20201008T190000
DTEND;TZID=UTC:20201008T213000
DTSTAMP:20260423T212128
CREATED:20200728T041418Z
LAST-MODIFIED:20200819T160107Z
UID:4125-1602183600-1602192600@joleneshieldshypnotherapy.com
SUMMARY:HypnoBirthing Zoom Class #4
DESCRIPTION:
URL:https://joleneshieldshypnotherapy.com/event/hypnobirthing-zoom-class-4/
END:VEVENT
BEGIN:VEVENT
DTSTART;TZID=UTC:20201001T190000
DTEND;TZID=UTC:20201001T213000
DTSTAMP:20260423T212128
CREATED:20200728T041329Z
LAST-MODIFIED:20200819T160026Z
UID:4123-1601578800-1601587800@joleneshieldshypnotherapy.com
SUMMARY:HypnoBirthing Zoom Class #3
DESCRIPTION:
URL:https://joleneshieldshypnotherapy.com/event/hypnobirthing-zoom-class-3/
LOCATION:Jolene Shields Hypnotherapy\, 308 East 4500 South #280\, Salt Lake City\, Ut.\, UT\, 84107\, United States
END:VEVENT
BEGIN:VEVENT
DTSTART;TZID=UTC:20200925T190000
DTEND;TZID=UTC:20200925T200000
DTSTAMP:20260423T212128
CREATED:20200728T041613Z
LAST-MODIFIED:20200728T041613Z
UID:4127-1601060400-1601064000@joleneshieldshypnotherapy.com
SUMMARY:HypnoBirthing Information and Registration Meeting
DESCRIPTION:This class is open to all to learn more about this comprehensive birth education for you and your companion. Call Jolene today to get in on the call at 801-942-6175 or email to info@joleneshieldshypnotherapy.com
URL:https://joleneshieldshypnotherapy.com/event/hypnobirthing-information-and-registration-meeting-20/
END:VEVENT
BEGIN:VEVENT
DTSTART;TZID=UTC:20200924T190000
DTEND;TZID=UTC:20200924T213000
DTSTAMP:20260423T212128
CREATED:20200728T041242Z
LAST-MODIFIED:20200819T155941Z
UID:4121-1600974000-1600983000@joleneshieldshypnotherapy.com
SUMMARY:HypnoBirthing Zoom Class #2
DESCRIPTION:
URL:https://joleneshieldshypnotherapy.com/event/hypnobirthing-zoom-class-2/
LOCATION:Jolene Shields Hypnotherapy\, 308 East 4500 South #280\, Salt Lake City\, Ut.\, UT\, 84107\, United States
END:VEVENT
BEGIN:VEVENT
DTSTART;TZID=UTC:20200917T190000
DTEND;TZID=UTC:20200917T213000
DTSTAMP:20260423T212128
CREATED:20200728T041146Z
LAST-MODIFIED:20200819T155830Z
UID:4119-1600369200-1600378200@joleneshieldshypnotherapy.com
SUMMARY:HypnoBirthing Zoom Class #1
DESCRIPTION:Call Jolene to register today for this comprehensive birth education for you and your companion. 801-942-6175 or email to info@joleneshieldshypnotherapy.com \nCall to register today. Classes are confirmed when 4 or more couples are registered to begin. 801-942-6175 or email to info@joleneshieldshypnotherapy.com
URL:https://joleneshieldshypnotherapy.com/event/hypnobirthing-zoom-class-1/
LOCATION:Jolene Shields Hypnotherapy\, 308 East 4500 South #280\, Salt Lake City\, Ut.\, UT\, 84107\, United States
END:VEVENT
BEGIN:VEVENT
DTSTART;TZID=UTC:20200828T190000
DTEND;TZID=UTC:20200828T200000
DTSTAMP:20260423T212128
CREATED:20200823T174607Z
LAST-MODIFIED:20200823T174607Z
UID:4188-1598641200-1598644800@joleneshieldshypnotherapy.com
SUMMARY:HypnoBirthing Zoom Information and Registration Meeting
DESCRIPTION:This meeting is free to the public!!! Just call today and give Jolene your phone number or email to get included on the call. Make sure you are prepared with the best Birth Education available. Reach out today at 801-942-6175 or email to info@joleneshieldshypntherapy.com
URL:https://joleneshieldshypnotherapy.com/event/hypnobirthing-zoom-information-and-registration-meeting/
END:VEVENT
BEGIN:VEVENT
DTSTART;TZID=UTC:20200730T190000
DTEND;TZID=UTC:20200730T213000
DTSTAMP:20260423T212128
CREATED:20200602T045200Z
LAST-MODIFIED:20200618T170948Z
UID:4034-1596135600-1596144600@joleneshieldshypnotherapy.com
SUMMARY:HypnoBirthing Class #4
DESCRIPTION:
URL:https://joleneshieldshypnotherapy.com/event/hypnobirthing-class-4-49/
END:VEVENT
BEGIN:VEVENT
DTSTART;TZID=UTC:20200723T190000
DTEND;TZID=UTC:20200723T213000
DTSTAMP:20260423T212128
CREATED:20200602T045119Z
LAST-MODIFIED:20200618T170848Z
UID:4032-1595530800-1595539800@joleneshieldshypnotherapy.com
SUMMARY:HypnoBirthing Class #3
DESCRIPTION:
URL:https://joleneshieldshypnotherapy.com/event/hypnobirthing-class-3-33/
END:VEVENT
BEGIN:VEVENT
DTSTART;TZID=UTC:20200716T190000
DTEND;TZID=UTC:20200716T213000
DTSTAMP:20260423T212128
CREATED:20200602T045036Z
LAST-MODIFIED:20200618T170917Z
UID:4030-1594926000-1594935000@joleneshieldshypnotherapy.com
SUMMARY:HypnoBirthing Class #2
DESCRIPTION:
URL:https://joleneshieldshypnotherapy.com/event/hypnobirthing-class-2-31/
END:VEVENT
BEGIN:VEVENT
DTSTART;TZID=UTC:20200709T190000
DTEND;TZID=UTC:20200709T213000
DTSTAMP:20260423T212128
CREATED:20200602T044943Z
LAST-MODIFIED:20200618T170745Z
UID:4028-1594321200-1594330200@joleneshieldshypnotherapy.com
SUMMARY:HypnoBirthing Class #1
DESCRIPTION:Classes will be confirmed when 4 couples are registered and ready to begin. \nAll classes are currently being offered on a Zoom format. If you are interested call Jolene today at 801-942-6175 or email to info@joleneshieldshypnotherapy.com.  This class is highly in demand and the best possible natural birth education available.
URL:https://joleneshieldshypnotherapy.com/event/hypnobirthing-class-1-24/
LOCATION:Jolene Shields Hypnotherapy\, 308 East 4500 South #280\, Salt Lake City\, Ut.\, UT\, 84107\, United States
END:VEVENT
BEGIN:VEVENT
DTSTART;TZID=UTC:20200604T190000
DTEND;TZID=UTC:20200604T213000
DTSTAMP:20260423T212128
CREATED:20200429T191949Z
LAST-MODIFIED:20200429T192011Z
UID:3953-1591297200-1591306200@joleneshieldshypnotherapy.com
SUMMARY:HypnoBirthing Class #4
DESCRIPTION:
URL:https://joleneshieldshypnotherapy.com/event/hypnobirthing-class-4-48/
LOCATION:Jolene Shields Hypnotherapy\, 308 East 4500 South #280\, Salt Lake City\, Ut.\, UT\, 84107\, United States
END:VEVENT
BEGIN:VEVENT
DTSTART;TZID=UTC:20200529T190000
DTEND;TZID=UTC:20200529T200000
DTSTAMP:20260423T212128
CREATED:20200429T192505Z
LAST-MODIFIED:20200429T192505Z
UID:3957-1590778800-1590782400@joleneshieldshypnotherapy.com
SUMMARY:HypnoBirthing Information and Registration Meeting
DESCRIPTION:Open to the public\, come and learn about THE BEST labor and birthing process for a comfortable and safe birthing experience. Please confirm your interest as this meeting may be held via phone conference due to Covid-19. 801-942-6175 or info@joleneshieldshypnotherapy.com
URL:https://joleneshieldshypnotherapy.com/event/hypnobirthing-information-and-registration-meeting-19/
LOCATION:Jolene Shields Hypnotherapy\, 308 East 4500 South #280\, Salt Lake City\, Ut.\, UT\, 84107\, United States
END:VEVENT
BEGIN:VEVENT
DTSTART;TZID=UTC:20200528T190000
DTEND;TZID=UTC:20200528T213000
DTSTAMP:20260423T212128
CREATED:20200429T191900Z
LAST-MODIFIED:20200429T191900Z
UID:3951-1590692400-1590701400@joleneshieldshypnotherapy.com
SUMMARY:HypnoBirthing Class #3
DESCRIPTION:
URL:https://joleneshieldshypnotherapy.com/event/hypnobirthing-class-3-32/
LOCATION:Jolene Shields Hypnotherapy\, 308 East 4500 South #280\, Salt Lake City\, Ut.\, UT\, 84107\, United States
END:VEVENT
BEGIN:VEVENT
DTSTART;TZID=UTC:20200521T190000
DTEND;TZID=UTC:20200521T213000
DTSTAMP:20260423T212128
CREATED:20200429T191812Z
LAST-MODIFIED:20200429T191812Z
UID:3949-1590087600-1590096600@joleneshieldshypnotherapy.com
SUMMARY:HypnoBirthing Class #2
DESCRIPTION:
URL:https://joleneshieldshypnotherapy.com/event/hypnobirthing-class-2-30/
LOCATION:Jolene Shields Hypnotherapy\, 308 East 4500 South #280\, Salt Lake City\, Ut.\, UT\, 84107\, United States
END:VEVENT
BEGIN:VEVENT
DTSTART;TZID=UTC:20200514T190000
DTEND;TZID=UTC:20200514T213000
DTSTAMP:20260423T212128
CREATED:20200304T203112Z
LAST-MODIFIED:20200429T191657Z
UID:3855-1589482800-1589491800@joleneshieldshypnotherapy.com
SUMMARY:HypnoBIrthing Class #1
DESCRIPTION:This class is currently a Zoom class!!! Please register by calling 801-942-6175. Deposit is required to hold your spot. Class size is limited.
URL:https://joleneshieldshypnotherapy.com/event/hypnobirthing-class-1-23/
END:VEVENT
BEGIN:VEVENT
DTSTART;TZID=UTC:20200424T190000
DTEND;TZID=UTC:20200424T213000
DTSTAMP:20260423T212128
CREATED:20200304T203327Z
LAST-MODIFIED:20200304T203327Z
UID:3857-1587754800-1587763800@joleneshieldshypnotherapy.com
SUMMARY:HypnoBirthing Registration and Information Meeting
DESCRIPTION:MUST RSVP for this meeting. Open to the public!!! Come and learn more about this comfortable and joyful birth experience. 801-942-6175 or email to: info@joleneshieldshypnotherapy.com
URL:https://joleneshieldshypnotherapy.com/event/hypnobirthing-registration-and-information-meeting-6/
END:VEVENT
BEGIN:VEVENT
DTSTART;TZID=UTC:20200409T190000
DTEND;TZID=UTC:20200409T213000
DTSTAMP:20260423T212128
CREATED:20200204T235812Z
LAST-MODIFIED:20200326T194452Z
UID:3792-1586458800-1586467800@joleneshieldshypnotherapy.com
SUMMARY:ZOOM TeleHealth HypnoBirthing Class #4
DESCRIPTION:
URL:https://joleneshieldshypnotherapy.com/event/hypnobirthing-class-4-47/
END:VEVENT
BEGIN:VEVENT
DTSTART;TZID=UTC:20200402T190000
DTEND;TZID=UTC:20200402T213000
DTSTAMP:20260423T212128
CREATED:20200204T235721Z
LAST-MODIFIED:20200326T194413Z
UID:3790-1585854000-1585863000@joleneshieldshypnotherapy.com
SUMMARY:ZOOM Tele Health HypnoBirthing Class #3
DESCRIPTION:
URL:https://joleneshieldshypnotherapy.com/event/hypnobirthing-class-3-31/
LOCATION:Jolene Shields Hypnotherapy\, 308 East 4500 South #280\, Salt Lake City\, Ut.\, UT\, 84107\, United States
END:VEVENT
BEGIN:VEVENT
DTSTART;TZID=UTC:20200327T190000
DTEND;TZID=UTC:20200327T213000
DTSTAMP:20260423T212128
CREATED:20200304T202925Z
LAST-MODIFIED:20200326T194128Z
UID:3853-1585335600-1585344600@joleneshieldshypnotherapy.com
SUMMARY:Online TeleHealth HypnoBirthing Information and Registration Meeting
DESCRIPTION:This Meeting will be held online\, please email or call me for the link to the call. Open to the public!!! Watch Online Videos and join the call to learn more about this wonderful birthing process. PLEASE RSVP at 801-942-6175 or email to info@joleneshieldshypnotherapy.com
URL:https://joleneshieldshypnotherapy.com/event/hypnobirthing-information-and-registration-meeting-18/
LOCATION:Jolene Shields Hypnotherapy\, 308 East 4500 South #280\, Salt Lake City\, Ut.\, UT\, 84107\, United States
END:VEVENT
BEGIN:VEVENT
DTSTART;TZID=UTC:20200326T190000
DTEND;TZID=UTC:20200326T213000
DTSTAMP:20260423T212128
CREATED:20200121T200135Z
LAST-MODIFIED:20200326T194319Z
UID:3760-1585249200-1585258200@joleneshieldshypnotherapy.com
SUMMARY:ZOOM Tele Health HypnoBirthing(R) Class #2
DESCRIPTION:
URL:https://joleneshieldshypnotherapy.com/event/hypnobirthing-class-2-29/
END:VEVENT
BEGIN:VEVENT
DTSTART;TZID=UTC:20200319T190000
DTEND;TZID=UTC:20200319T213000
DTSTAMP:20260423T212128
CREATED:20200121T200054Z
LAST-MODIFIED:20200326T194535Z
UID:3758-1584644400-1584653400@joleneshieldshypnotherapy.com
SUMMARY:ZOOM TeleHealth HypnoBirthing(R) Class #1 The Mongan Method
DESCRIPTION:This is the original trademarked Mongan Method\, don’t accept others that fall short!!! Sign up now for this comprehensive class to learn all the techniques you will need for the calm and comfortable birth of your dreams. 801-942-6175 or email to info@joleneshieldshypnotherapy.com
URL:https://joleneshieldshypnotherapy.com/event/hypnobirthing-class-1-22/
LOCATION:Jolene Shields Hypnotherapy\, 308 East 4500 South #280\, Salt Lake City\, Ut.\, UT\, 84107\, United States
END:VEVENT
BEGIN:VEVENT
DTSTART;TZID=UTC:20200307T100000
DTEND;TZID=UTC:20200307T123000
DTSTAMP:20260423T212128
CREATED:20200304T202722Z
LAST-MODIFIED:20200304T202722Z
UID:3851-1583575200-1583584200@joleneshieldshypnotherapy.com
SUMMARY:Self Hypnosis Class
DESCRIPTION:This is a private class\, available only to clients with Full programs. Contact Jolene for questions. 801-942-6175
URL:https://joleneshieldshypnotherapy.com/event/self-hypnosis-class-7/
LOCATION:Jolene Shields Hypnotherapy\, 308 East 4500 South #280\, Salt Lake City\, Ut.\, UT\, 84107\, United States
END:VEVENT
BEGIN:VEVENT
DTSTART;TZID=UTC:20200228T190000
DTEND;TZID=UTC:20200228T200000
DTSTAMP:20260423T212128
CREATED:20200121T200717Z
LAST-MODIFIED:20200121T200825Z
UID:3768-1582916400-1582920000@joleneshieldshypnotherapy.com
SUMMARY:HypnoBirthing The Mongan Method Registration and Information Meeting
DESCRIPTION:Open to all interested moms who would like a calm and comfortable birth process. RSVP IS REQUIRED!! 801-942-6175 or email to info@joleneshieldshypnotherapy.com \nThis is the original trademarked Mongan Method\, don’t accept others that fall short!!! Sign up now for this comprehensive class to learn all the techniques you will need for the calm and comfortable birth of your dreams. 801-942-6175 or email to info@joleneshieldshypnotherapy.com
URL:https://joleneshieldshypnotherapy.com/event/hypnobirthing-the-mongan-method-registration-and-information-meeting/
LOCATION:Jolene Shields Hypnotherapy\, 308 East 4500 South #280\, Salt Lake City\, Ut.\, UT\, 84107\, United States
END:VEVENT
END:VCALENDAR