BEGIN:VCALENDAR
VERSION:2.0
PRODID:-//Jolene Shields Hypnotherapy - ECPv6.15.1.1//NONSGML v1.0//EN
CALSCALE:GREGORIAN
METHOD:PUBLISH
X-ORIGINAL-URL:https://joleneshieldshypnotherapy.com
X-WR-CALDESC:Events for Jolene Shields Hypnotherapy
REFRESH-INTERVAL;VALUE=DURATION:PT1H
X-Robots-Tag:noindex
X-PUBLISHED-TTL:PT1H
BEGIN:VTIMEZONE
TZID:UTC
BEGIN:STANDARD
TZOFFSETFROM:+0000
TZOFFSETTO:+0000
TZNAME:UTC
DTSTART:20170101T000000
END:STANDARD
END:VTIMEZONE
BEGIN:VEVENT
DTSTART;TZID=UTC:20170720T190000
DTEND;TZID=UTC:20170720T213000
DTSTAMP:20260425T023746
CREATED:20170213T224734Z
LAST-MODIFIED:20170609T170149Z
UID:1585-1500577200-1500586200@joleneshieldshypnotherapy.com
SUMMARY:HypnoBIrthing Class #2
DESCRIPTION:
URL:https://joleneshieldshypnotherapy.com/event/hypnobirthing-class-3-13/
END:VEVENT
BEGIN:VEVENT
DTSTART;TZID=UTC:20170713T190000
DTEND;TZID=UTC:20170713T213000
DTSTAMP:20260425T023746
CREATED:20170213T224658Z
LAST-MODIFIED:20170609T170123Z
UID:1583-1499972400-1499981400@joleneshieldshypnotherapy.com
SUMMARY:HypnoBirthing Class #1
DESCRIPTION:
URL:https://joleneshieldshypnotherapy.com/event/hypnobirthing-class-2-11/
END:VEVENT
BEGIN:VEVENT
DTSTART;TZID=UTC:20170706T190000
DTEND;TZID=UTC:20170706T213000
DTSTAMP:20260425T023746
CREATED:20170213T224556Z
LAST-MODIFIED:20170609T170101Z
UID:1581-1499367600-1499376600@joleneshieldshypnotherapy.com
SUMMARY:HypnoBirthing Class #4 of June Series
DESCRIPTION:
URL:https://joleneshieldshypnotherapy.com/event/hypnobirthing-class-1-10/
END:VEVENT
BEGIN:VEVENT
DTSTART;TZID=UTC:20170630T190000
DTEND;TZID=UTC:20170630T200000
DTSTAMP:20260425T023746
CREATED:20170213T224512Z
LAST-MODIFIED:20170213T224512Z
UID:1579-1498849200-1498852800@joleneshieldshypnotherapy.com
SUMMARY:HypnoBIrthing Registration and Information Meeting
DESCRIPTION:
URL:https://joleneshieldshypnotherapy.com/event/hypnobirthing-registration-and-information-meeting-3/
END:VEVENT
BEGIN:VEVENT
DTSTART;TZID=UTC:20170629T190000
DTEND;TZID=UTC:20170629T213000
DTSTAMP:20260425T023746
CREATED:20170213T224419Z
LAST-MODIFIED:20170609T170017Z
UID:1577-1498762800-1498771800@joleneshieldshypnotherapy.com
SUMMARY:HypnoBirthing Class #3
DESCRIPTION:
URL:https://joleneshieldshypnotherapy.com/event/hypnobirthing-class-4-14/
END:VEVENT
BEGIN:VEVENT
DTSTART;TZID=UTC:20170624T100000
DTEND;TZID=UTC:20170624T123000
DTSTAMP:20260425T023746
CREATED:20170609T170916Z
LAST-MODIFIED:20170609T170916Z
UID:1806-1498298400-1498307400@joleneshieldshypnotherapy.com
SUMMARY:Self Hypnosis Management Class
DESCRIPTION:
URL:https://joleneshieldshypnotherapy.com/event/self-hypnosis-management-class/
END:VEVENT
BEGIN:VEVENT
DTSTART;TZID=UTC:20170622T190000
DTEND;TZID=UTC:20170622T213000
DTSTAMP:20260425T023746
CREATED:20170213T224259Z
LAST-MODIFIED:20170609T165939Z
UID:1573-1498158000-1498167000@joleneshieldshypnotherapy.com
SUMMARY:HypnoBIrthing Class #2
DESCRIPTION:
URL:https://joleneshieldshypnotherapy.com/event/hypnobirthing-class-3-12/
END:VEVENT
BEGIN:VEVENT
DTSTART;TZID=UTC:20170615T190000
DTEND;TZID=UTC:20170615T213000
DTSTAMP:20260425T023746
CREATED:20170213T224212Z
LAST-MODIFIED:20170609T165846Z
UID:1571-1497553200-1497562200@joleneshieldshypnotherapy.com
SUMMARY:HypnoBIrthing Class #1
DESCRIPTION:
URL:https://joleneshieldshypnotherapy.com/event/hypnobirthing-class-2-10/
END:VEVENT
BEGIN:VEVENT
DTSTART;TZID=UTC:20170526T190000
DTEND;TZID=UTC:20170526T213000
DTSTAMP:20260425T023746
CREATED:20170213T224040Z
LAST-MODIFIED:20170213T224040Z
UID:1567-1495825200-1495834200@joleneshieldshypnotherapy.com
SUMMARY:HypnoBirthing Registration and Information Meeting
DESCRIPTION:
URL:https://joleneshieldshypnotherapy.com/event/hypnobirthing-registration-and-information-meeting-2/
END:VEVENT
BEGIN:VEVENT
DTSTART;TZID=UTC:20170525T190000
DTEND;TZID=UTC:20170525T213000
DTSTAMP:20260425T023746
CREATED:20170213T223959Z
LAST-MODIFIED:20170213T223959Z
UID:1565-1495738800-1495747800@joleneshieldshypnotherapy.com
SUMMARY:HypnoBirthing Class #4
DESCRIPTION:
URL:https://joleneshieldshypnotherapy.com/event/hypnobirthing-class-4-12/
END:VEVENT
BEGIN:VEVENT
DTSTART;TZID=UTC:20170518T190000
DTEND;TZID=UTC:20170518T213000
DTSTAMP:20260425T023746
CREATED:20170213T223827Z
LAST-MODIFIED:20170213T223827Z
UID:1561-1495134000-1495143000@joleneshieldshypnotherapy.com
SUMMARY:HypnoBirthing Class #3
DESCRIPTION:
URL:https://joleneshieldshypnotherapy.com/event/hypnobirthing-class-3-10/
END:VEVENT
BEGIN:VEVENT
DTSTART;TZID=UTC:20170511T190000
DTEND;TZID=UTC:20170511T213000
DTSTAMP:20260425T023746
CREATED:20170213T223749Z
LAST-MODIFIED:20170213T223749Z
UID:1559-1494529200-1494538200@joleneshieldshypnotherapy.com
SUMMARY:HypnoBirthing Class #2
DESCRIPTION:
URL:https://joleneshieldshypnotherapy.com/event/hypnobirthing-class-2-9/
END:VEVENT
BEGIN:VEVENT
DTSTART;TZID=UTC:20170504T190000
DTEND;TZID=UTC:20170504T213000
DTSTAMP:20260425T023746
CREATED:20170213T223708Z
LAST-MODIFIED:20170213T223708Z
UID:1557-1493924400-1493933400@joleneshieldshypnotherapy.com
SUMMARY:HypnoBirthing Class #1
DESCRIPTION:
URL:https://joleneshieldshypnotherapy.com/event/hypnobirthing-class-1-8/
END:VEVENT
BEGIN:VEVENT
DTSTART;TZID=UTC:20170501T190000
DTEND;TZID=UTC:20170501T213000
DTSTAMP:20260425T023746
CREATED:20170424T184538Z
LAST-MODIFIED:20170424T184538Z
UID:1696-1493665200-1493674200@joleneshieldshypnotherapy.com
SUMMARY:April HypnoBirthing Class #4 Makeup
DESCRIPTION:
URL:https://joleneshieldshypnotherapy.com/event/april-hypnobirthing-class-4-makeup/
END:VEVENT
BEGIN:VEVENT
DTSTART;TZID=UTC:20170428T190000
DTEND;TZID=UTC:20170428T200000
DTSTAMP:20260425T023746
CREATED:20170213T223624Z
LAST-MODIFIED:20170213T223624Z
UID:1555-1493406000-1493409600@joleneshieldshypnotherapy.com
SUMMARY:HypnoBirthing Registration and Information Meeting
DESCRIPTION:Come and learn more about this wonderful natural birth process
URL:https://joleneshieldshypnotherapy.com/event/hypnobirthing-registration-and-information-meeting/
END:VEVENT
BEGIN:VEVENT
DTSTART;TZID=UTC:20170427T190000
DTEND;TZID=UTC:20170427T213000
DTSTAMP:20260425T023746
CREATED:20170213T223529Z
LAST-MODIFIED:20170424T184725Z
UID:1553-1493319600-1493328600@joleneshieldshypnotherapy.com
SUMMARY:HypnoBirthing Class #3
DESCRIPTION:
URL:https://joleneshieldshypnotherapy.com/event/hypnobirthing-class-4-11/
END:VEVENT
BEGIN:VEVENT
DTSTART;TZID=UTC:20170413T190000
DTEND;TZID=UTC:20170413T213000
DTSTAMP:20260425T023746
CREATED:20170213T223400Z
LAST-MODIFIED:20170414T041041Z
UID:1549-1492110000-1492119000@joleneshieldshypnotherapy.com
SUMMARY:HypnoBirthing Class #2
DESCRIPTION:
URL:https://joleneshieldshypnotherapy.com/event/hypnobirthing-class-2-8/
END:VEVENT
BEGIN:VEVENT
DTSTART;TZID=UTC:20170406T190000
DTEND;TZID=UTC:20170406T213000
DTSTAMP:20260425T023746
CREATED:20170213T223054Z
LAST-MODIFIED:20170213T223054Z
UID:1546-1491505200-1491514200@joleneshieldshypnotherapy.com
SUMMARY:HypnoBirthing Class #1
DESCRIPTION:
URL:https://joleneshieldshypnotherapy.com/event/hypnobirthing-class-1-7/
END:VEVENT
BEGIN:VEVENT
DTSTART;TZID=UTC:20170331T190000
DTEND;TZID=UTC:20170331T200000
DTSTAMP:20260425T023746
CREATED:20170213T222956Z
LAST-MODIFIED:20170213T222956Z
UID:1544-1490986800-1490990400@joleneshieldshypnotherapy.com
SUMMARY:HypnoBirthing Information and Registration Meeting
DESCRIPTION:Open to everyone!!!!! Attend to learn more about this wonderful birth process
URL:https://joleneshieldshypnotherapy.com/event/hypnobirthing-information-and-registration-meeting/
END:VEVENT
BEGIN:VEVENT
DTSTART;TZID=UTC:20170330T190000
DTEND;TZID=UTC:20170330T213000
DTSTAMP:20260425T023746
CREATED:20170213T222836Z
LAST-MODIFIED:20170213T222836Z
UID:1542-1490900400-1490909400@joleneshieldshypnotherapy.com
SUMMARY:HypnoBIrthing Class #4
DESCRIPTION:
URL:https://joleneshieldshypnotherapy.com/event/hypnobirthing-class-4-10/
END:VEVENT
BEGIN:VEVENT
DTSTART;TZID=UTC:20170323T190000
DTEND;TZID=UTC:20170323T213000
DTSTAMP:20260425T023746
CREATED:20170213T222752Z
LAST-MODIFIED:20170213T222752Z
UID:1540-1490295600-1490304600@joleneshieldshypnotherapy.com
SUMMARY:HypnoBirthing Class #3
DESCRIPTION:
URL:https://joleneshieldshypnotherapy.com/event/hypnobirthing-class-3-8/
END:VEVENT
BEGIN:VEVENT
DTSTART;TZID=UTC:20170316T190000
DTEND;TZID=UTC:20170316T213000
DTSTAMP:20260425T023746
CREATED:20170213T222708Z
LAST-MODIFIED:20170213T222708Z
UID:1538-1489690800-1489699800@joleneshieldshypnotherapy.com
SUMMARY:HypnoBirthing Class #2
DESCRIPTION:
URL:https://joleneshieldshypnotherapy.com/event/hypnobirthing-class-2-7/
END:VEVENT
BEGIN:VEVENT
DTSTART;TZID=UTC:20170309T190000
DTEND;TZID=UTC:20170309T213000
DTSTAMP:20260425T023746
CREATED:20170213T222621Z
LAST-MODIFIED:20170213T222621Z
UID:1536-1489086000-1489095000@joleneshieldshypnotherapy.com
SUMMARY:HypnoBIrthing Class #1
DESCRIPTION:This class starts the March class series
URL:https://joleneshieldshypnotherapy.com/event/hypnobirthing-class-1-6/
END:VEVENT
BEGIN:VEVENT
DTSTART;TZID=UTC:20170302T190000
DTEND;TZID=UTC:20170302T213000
DTSTAMP:20260425T023746
CREATED:20170213T222512Z
LAST-MODIFIED:20170213T222512Z
UID:1534-1488481200-1488490200@joleneshieldshypnotherapy.com
SUMMARY:HypnoBIrthing Class #4
DESCRIPTION:Class 4 in the February series
URL:https://joleneshieldshypnotherapy.com/event/hypnobirthing-class-4-9/
END:VEVENT
BEGIN:VEVENT
DTSTART;TZID=UTC:20170225T190000
DTEND;TZID=UTC:20170225T200000
DTSTAMP:20260425T023746
CREATED:20161231T213611Z
LAST-MODIFIED:20161231T213611Z
UID:1452-1488049200-1488052800@joleneshieldshypnotherapy.com
SUMMARY:HypnoBirthing Information and Registration class
DESCRIPTION:Free meeting for all who are interested in a safe and comfortable natural birth for mom and baby
URL:https://joleneshieldshypnotherapy.com/event/hypnobirthing-information-and-registration-class/
LOCATION:Jolene Shields Hypnotherapy\, 1151 East 3900 So. #B299\, Salt Lake CIty\, Utah\, 84124
END:VEVENT
BEGIN:VEVENT
DTSTART;TZID=UTC:20170223T190000
DTEND;TZID=UTC:20170223T213000
DTSTAMP:20260425T023746
CREATED:20161231T213331Z
LAST-MODIFIED:20170103T233602Z
UID:1446-1487876400-1487885400@joleneshieldshypnotherapy.com
SUMMARY:HypnoBirthing Class #3
DESCRIPTION:
URL:https://joleneshieldshypnotherapy.com/event/hypnobirthing-class-3-7/
LOCATION:Jolene Shields Hypnotherapy\, 1151 East 3900 So. #B299\, Salt Lake CIty\, Utah\, 84124
END:VEVENT
BEGIN:VEVENT
DTSTART;TZID=UTC:20170216T190000
DTEND;TZID=UTC:20170216T213000
DTSTAMP:20260425T023746
CREATED:20161231T213147Z
LAST-MODIFIED:20170103T233634Z
UID:1443-1487271600-1487280600@joleneshieldshypnotherapy.com
SUMMARY:HypnoBirthing February Class #2
DESCRIPTION:
URL:https://joleneshieldshypnotherapy.com/event/hypnobirthing-february-class-2/
LOCATION:Jolene Shields Hypnotherapy\, 11551 East 3900 South\, Salt Lake CIty\, Utah\, 84124
END:VEVENT
BEGIN:VEVENT
DTSTART;TZID=UTC:20170213T190000
DTEND;TZID=UTC:20170213T213000
DTSTAMP:20260425T023746
CREATED:20170302T070036Z
LAST-MODIFIED:20170213T222224Z
UID:1449-1487012400-1487021400@joleneshieldshypnotherapy.com
SUMMARY:HypnoBirthing Class #4
DESCRIPTION:
URL:https://joleneshieldshypnotherapy.com/event/hypnobirthing-class-4-7/
LOCATION:Jolene Shields Hypnotherapy\, 1151 East 3900 So. #B299\, Salt Lake CIty\, Utah\, 84124
END:VEVENT
BEGIN:VEVENT
DTSTART;TZID=UTC:20170213T190000
DTEND;TZID=UTC:20170213T213000
DTSTAMP:20260425T023746
CREATED:20170208T004210Z
LAST-MODIFIED:20170208T004210Z
UID:1520-1487012400-1487021400@joleneshieldshypnotherapy.com
SUMMARY:HypnoBirthing Class #4
DESCRIPTION:
URL:https://joleneshieldshypnotherapy.com/event/hypnobirthing-class-4-8/
END:VEVENT
BEGIN:VEVENT
DTSTART;TZID=UTC:20170209T190000
DTEND;TZID=UTC:20170209T213000
DTSTAMP:20260425T023746
CREATED:20161231T213010Z
LAST-MODIFIED:20170103T233327Z
UID:1440-1486666800-1486675800@joleneshieldshypnotherapy.com
SUMMARY:HypnoBirthing February class #1
DESCRIPTION:
URL:https://joleneshieldshypnotherapy.com/event/hypnobirthing-february-class-series/
LOCATION:Jolene Shields Hypnotherapy\, 1151 East 3900 So. #B299\, Salt Lake CIty\, Utah\, 84124
END:VEVENT
END:VCALENDAR