BEGIN:VCALENDAR
VERSION:2.0
PRODID:-//Jolene Shields Hypnotherapy - ECPv6.15.1.1//NONSGML v1.0//EN
CALSCALE:GREGORIAN
METHOD:PUBLISH
X-WR-CALNAME:Jolene Shields Hypnotherapy
X-ORIGINAL-URL:https://joleneshieldshypnotherapy.com
X-WR-CALDESC:Events for Jolene Shields Hypnotherapy
REFRESH-INTERVAL;VALUE=DURATION:PT1H
X-Robots-Tag:noindex
X-PUBLISHED-TTL:PT1H
BEGIN:VTIMEZONE
TZID:UTC
BEGIN:STANDARD
TZOFFSETFROM:+0000
TZOFFSETTO:+0000
TZNAME:UTC
DTSTART:20170101T000000
END:STANDARD
END:VTIMEZONE
BEGIN:VEVENT
DTSTART;TZID=UTC:20180427T190000
DTEND;TZID=UTC:20180427T200000
DTSTAMP:20260424T184852
CREATED:20171230T012929Z
LAST-MODIFIED:20171230T012929Z
UID:2183-1524855600-1524859200@joleneshieldshypnotherapy.com
SUMMARY:HypnoBirthing Free Information and Registration Meeting
DESCRIPTION:Come and learn more about this wonderful way to have your comfortable\, safe and bonding birth!! Call to register at 801-942-6175 or email to info@joleneshieldshypnotherapy.com
URL:https://joleneshieldshypnotherapy.com/event/hypnobirthing-free-information-and-registration-meeting/
LOCATION:UT
END:VEVENT
BEGIN:VEVENT
DTSTART;TZID=UTC:20180419T190000
DTEND;TZID=UTC:20180419T213000
DTSTAMP:20260424T184852
CREATED:20171229T202215Z
LAST-MODIFIED:20180411T171137Z
UID:2169-1524164400-1524173400@joleneshieldshypnotherapy.com
SUMMARY:HypnoBirthing Class #3
DESCRIPTION:
URL:https://joleneshieldshypnotherapy.com/event/hypnobirthing-class-4-22/
LOCATION:UT
END:VEVENT
BEGIN:VEVENT
DTSTART;TZID=UTC:20180413T190000
DTEND;TZID=UTC:20180413T213000
DTSTAMP:20260424T184852
CREATED:20171229T202137Z
LAST-MODIFIED:20180411T171026Z
UID:2167-1523646000-1523655000@joleneshieldshypnotherapy.com
SUMMARY:HypnoBirthing Class #2
DESCRIPTION:
URL:https://joleneshieldshypnotherapy.com/event/hypnobirthing-class-3-19/
LOCATION:UT
END:VEVENT
BEGIN:VEVENT
DTSTART;TZID=UTC:20180405T190000
DTEND;TZID=UTC:20180405T213000
DTSTAMP:20260424T184852
CREATED:20171229T202025Z
LAST-MODIFIED:20180402T224712Z
UID:2165-1522954800-1522963800@joleneshieldshypnotherapy.com
SUMMARY:HypnoBirthing Class #1
DESCRIPTION:Class is full\, please call soon to register for May class!!!!
URL:https://joleneshieldshypnotherapy.com/event/hypnobirthing-class-2-19/
LOCATION:UT
END:VEVENT
BEGIN:VEVENT
DTSTART;TZID=UTC:20180330T190000
DTEND;TZID=UTC:20180330T200000
DTSTAMP:20260424T184852
CREATED:20171230T012836Z
LAST-MODIFIED:20171230T012836Z
UID:2181-1522436400-1522440000@joleneshieldshypnotherapy.com
SUMMARY:HypnoBirthing Free Information and Registration class
DESCRIPTION:Come and learn more about this wonderful way to have your comfortable\, safe and bonding birth!! Call to register at 801-942-6175 or email to info@joleneshieldshypnotherapy.com
URL:https://joleneshieldshypnotherapy.com/event/hypnobirthing-free-information-and-registration-class/
LOCATION:UT
END:VEVENT
BEGIN:VEVENT
DTSTART;TZID=UTC:20180322T190000
DTEND;TZID=UTC:20180322T213000
DTSTAMP:20260424T184852
CREATED:20180322T175139Z
LAST-MODIFIED:20180322T175139Z
UID:2542-1521745200-1521754200@joleneshieldshypnotherapy.com
SUMMARY:HypnoBirthing Class #4
DESCRIPTION:
URL:https://joleneshieldshypnotherapy.com/event/hypnobirthing-class-4-24/
LOCATION:UT
END:VEVENT
BEGIN:VEVENT
DTSTART;TZID=UTC:20180322T190000
DTEND;TZID=UTC:20180322T213000
DTSTAMP:20260424T184852
CREATED:20180227T231023Z
LAST-MODIFIED:20180227T231023Z
UID:2369-1521745200-1521754200@joleneshieldshypnotherapy.com
SUMMARY:HypnoBirthing Class #4
DESCRIPTION:
URL:https://joleneshieldshypnotherapy.com/event/hypnobirthing-class-4-23/
LOCATION:UT
END:VEVENT
BEGIN:VEVENT
DTSTART;TZID=UTC:20180315T190000
DTEND;TZID=UTC:20180315T213000
DTSTAMP:20260424T184852
CREATED:20180208T033117Z
LAST-MODIFIED:20180227T230813Z
UID:2236-1521140400-1521149400@joleneshieldshypnotherapy.com
SUMMARY:HypnoBirthing Class #3
DESCRIPTION:
URL:https://joleneshieldshypnotherapy.com/event/hypnobirthing-class-4-20/
LOCATION:UT
END:VEVENT
BEGIN:VEVENT
DTSTART;TZID=UTC:20180308T190000
DTEND;TZID=UTC:20180308T213000
DTSTAMP:20260424T184852
CREATED:20171229T201418Z
LAST-MODIFIED:20180227T230739Z
UID:2155-1520535600-1520544600@joleneshieldshypnotherapy.com
SUMMARY:HypnoBirthing Class #2
DESCRIPTION:
URL:https://joleneshieldshypnotherapy.com/event/hypnobirthing-class-4-21/
LOCATION:UT
END:VEVENT
BEGIN:VEVENT
DTSTART;TZID=UTC:20180301T190000
DTEND;TZID=UTC:20180301T213000
DTSTAMP:20260424T184852
CREATED:20171229T201339Z
LAST-MODIFIED:20180227T230700Z
UID:2153-1519930800-1519939800@joleneshieldshypnotherapy.com
SUMMARY:HypnoBirthing Class #1
DESCRIPTION:
URL:https://joleneshieldshypnotherapy.com/event/hypnobirthing-class-3-18/
LOCATION:UT
END:VEVENT
BEGIN:VEVENT
DTSTART;TZID=UTC:20180214T183000
DTEND;TZID=UTC:20180214T193000
DTSTAMP:20260424T184852
CREATED:20171230T012704Z
LAST-MODIFIED:20180208T032558Z
UID:2177-1518633000-1518636600@joleneshieldshypnotherapy.com
SUMMARY:ing Free Registration and Information Meeting
DESCRIPTION:Come and learn more about this wonderful way to have your comfortable\, safe and bonding birth!! Call to register at 801-942-6175 or email to info@joleneshieldshypnotherapy.com
URL:https://joleneshieldshypnotherapy.com/event/ing-free-registration-and-information-meeting/
LOCATION:UT
END:VEVENT
BEGIN:VEVENT
DTSTART;TZID=UTC:20180208T190000
DTEND;TZID=UTC:20180208T213000
DTSTAMP:20260424T184852
CREATED:20171229T200819Z
LAST-MODIFIED:20180109T193255Z
UID:2139-1518116400-1518125400@joleneshieldshypnotherapy.com
SUMMARY:HypnoBirthing Class #4
DESCRIPTION:
URL:https://joleneshieldshypnotherapy.com/event/hypnobirthing-class-4-19/
LOCATION:UT
END:VEVENT
BEGIN:VEVENT
DTSTART;TZID=UTC:20180201T190000
DTEND;TZID=UTC:20180201T213000
DTSTAMP:20260424T184852
CREATED:20171229T200732Z
LAST-MODIFIED:20180109T193210Z
UID:2137-1517511600-1517520600@joleneshieldshypnotherapy.com
SUMMARY:HypnoBirthing Class #3
DESCRIPTION:
URL:https://joleneshieldshypnotherapy.com/event/hypnobirthing-class-3-14/
LOCATION:UT
END:VEVENT
BEGIN:VEVENT
DTSTART;TZID=UTC:20180125T190000
DTEND;TZID=UTC:20180125T213000
DTSTAMP:20260424T184852
CREATED:20171229T200646Z
LAST-MODIFIED:20180109T193124Z
UID:2135-1516906800-1516915800@joleneshieldshypnotherapy.com
SUMMARY:HypnoBirthing Class #2
DESCRIPTION:
URL:https://joleneshieldshypnotherapy.com/event/hypnobirthing-class-2-14/
LOCATION:UT
END:VEVENT
BEGIN:VEVENT
DTSTART;TZID=UTC:20180118T190000
DTEND;TZID=UTC:20180118T213000
DTSTAMP:20260424T184852
CREATED:20171229T200549Z
LAST-MODIFIED:20180109T193013Z
UID:2132-1516302000-1516311000@joleneshieldshypnotherapy.com
SUMMARY:HypnoBirthing Class #1
DESCRIPTION:Call today to register at 801-942-6175. Classes fill up quickly and space for the New Year is limited. Classes will begin when 4 couples are registered to start. You can also email Jolene at info@joleneshieldshyponotherapy.com
URL:https://joleneshieldshypnotherapy.com/event/hypnobirthing-class-1-12/
LOCATION:UT
END:VEVENT
BEGIN:VEVENT
DTSTART;TZID=UTC:20171229T190000
DTEND;TZID=UTC:20171229T200000
DTSTAMP:20260424T184852
CREATED:20170906T193610Z
LAST-MODIFIED:20170906T193610Z
UID:1987-1514574000-1514577600@joleneshieldshypnotherapy.com
SUMMARY:HypnoBirthing Information and Registration Meeting
DESCRIPTION:
URL:https://joleneshieldshypnotherapy.com/event/hypnobirthing-information-and-registration-meeting-2/
LOCATION:UT
END:VEVENT
BEGIN:VEVENT
DTSTART;TZID=UTC:20171228T190000
DTEND;TZID=UTC:20171228T213000
DTSTAMP:20260424T184852
CREATED:20170906T193521Z
LAST-MODIFIED:20170906T193521Z
UID:1985-1514487600-1514496600@joleneshieldshypnotherapy.com
SUMMARY:HypnoBIrthing Class #4
DESCRIPTION:
URL:https://joleneshieldshypnotherapy.com/event/hypnobirthing-class-4-18/
LOCATION:UT
END:VEVENT
BEGIN:VEVENT
DTSTART;TZID=UTC:20171221T190000
DTEND;TZID=UTC:20171221T213000
DTSTAMP:20260424T184852
CREATED:20170906T193446Z
LAST-MODIFIED:20170906T193446Z
UID:1983-1513882800-1513891800@joleneshieldshypnotherapy.com
SUMMARY:HypnoBIrthing Class #3
DESCRIPTION:
URL:https://joleneshieldshypnotherapy.com/event/hypnobirthing-class-3-16/
LOCATION:UT
END:VEVENT
BEGIN:VEVENT
DTSTART;TZID=UTC:20171214T190000
DTEND;TZID=UTC:20171214T213000
DTSTAMP:20260424T184852
CREATED:20170906T193401Z
LAST-MODIFIED:20170906T193401Z
UID:1981-1513278000-1513287000@joleneshieldshypnotherapy.com
SUMMARY:HypnoBirthing Class #2
DESCRIPTION:
URL:https://joleneshieldshypnotherapy.com/event/hypnobirthing-class-2-16/
LOCATION:UT
END:VEVENT
BEGIN:VEVENT
DTSTART;TZID=UTC:20171207T190000
DTEND;TZID=UTC:20171207T213000
DTSTAMP:20260424T184852
CREATED:20170906T193324Z
LAST-MODIFIED:20170906T193830Z
UID:1979-1512673200-1512682200@joleneshieldshypnotherapy.com
SUMMARY:HypnoBirthing Class #1
DESCRIPTION:Classes require 4 couples to begin\, please call 801-942-6175 or email info@joleneshieldshypnotherapy.com register. Insurance reimbursement forms will be provided with your payment.
URL:https://joleneshieldshypnotherapy.com/event/hypnobirthing-class-1-16/
LOCATION:UT
END:VEVENT
BEGIN:VEVENT
DTSTART;TZID=UTC:20171130T190000
DTEND;TZID=UTC:20171130T213000
DTSTAMP:20260424T184852
CREATED:20170906T193138Z
LAST-MODIFIED:20170906T193138Z
UID:1976-1512068400-1512077400@joleneshieldshypnotherapy.com
SUMMARY:HypnoBirthing Class #4
DESCRIPTION:
URL:https://joleneshieldshypnotherapy.com/event/hypnobirthing-class-4-17/
LOCATION:UT
END:VEVENT
BEGIN:VEVENT
DTSTART;TZID=UTC:20171124T190000
DTEND;TZID=UTC:20171124T200000
DTSTAMP:20260424T184852
CREATED:20170906T191846Z
LAST-MODIFIED:20170906T192025Z
UID:1950-1511550000-1511553600@joleneshieldshypnotherapy.com
SUMMARY:HypnoBirthing Information and Registration Meeting
DESCRIPTION:
URL:https://joleneshieldshypnotherapy.com/event/hypnobirthing-class-1-13/
LOCATION:UT
END:VEVENT
BEGIN:VEVENT
DTSTART;TZID=UTC:20171121T190000
DTEND;TZID=UTC:20171121T213000
DTSTAMP:20260424T184852
CREATED:20170906T193058Z
LAST-MODIFIED:20170906T193058Z
UID:1974-1511290800-1511299800@joleneshieldshypnotherapy.com
SUMMARY:HypnoBirthing Class #3
DESCRIPTION:
URL:https://joleneshieldshypnotherapy.com/event/hypnobirthing-class-3-15/
LOCATION:UT
END:VEVENT
BEGIN:VEVENT
DTSTART;TZID=UTC:20171116T190000
DTEND;TZID=UTC:20171116T213000
DTSTAMP:20260424T184852
CREATED:20170906T192956Z
LAST-MODIFIED:20170906T192956Z
UID:1972-1510858800-1510867800@joleneshieldshypnotherapy.com
SUMMARY:HypnoBirthing Class #2
DESCRIPTION:
URL:https://joleneshieldshypnotherapy.com/event/hypnobirthing-class-2-15/
LOCATION:UT
END:VEVENT
BEGIN:VEVENT
DTSTART;TZID=UTC:20171109T190000
DTEND;TZID=UTC:20171109T213000
DTSTAMP:20260424T184852
CREATED:20170906T192919Z
LAST-MODIFIED:20170906T193927Z
UID:1970-1510254000-1510263000@joleneshieldshypnotherapy.com
SUMMARY:HypnoBirthing Class #1
DESCRIPTION:Classes require 4 couples to begin\, please call 801-942-6175 or email info@joleneshieldshypnotherapy.com register. Insurance reimbursement forms will be provided with your payment.
URL:https://joleneshieldshypnotherapy.com/event/hypnobirthing-class-1-15/
LOCATION:UT
END:VEVENT
BEGIN:VEVENT
DTSTART;TZID=UTC:20171027T190000
DTEND;TZID=UTC:20171027T213000
DTSTAMP:20260424T184852
CREATED:20170906T191304Z
LAST-MODIFIED:20170906T191503Z
UID:1938-1509130800-1509139800@joleneshieldshypnotherapy.com
SUMMARY:HypnoBirthing Registration and Information Meeting
DESCRIPTION:Please call or email to register\, classes fill up quickly. 801-942-6175 or info@joleneshieldshypnotherapy.com
URL:https://joleneshieldshypnotherapy.com/event/october-hypnobirthing-classes/
LOCATION:UT
END:VEVENT
BEGIN:VEVENT
DTSTART;TZID=UTC:20171014T100000
DTEND;TZID=UTC:20171014T123000
DTSTAMP:20260424T184852
CREATED:20170829T222041Z
LAST-MODIFIED:20170919T192803Z
UID:1923-1507975200-1507984200@joleneshieldshypnotherapy.com
SUMMARY:Self Hypnosis Class
DESCRIPTION:This class is only open to current clients of my practice
URL:https://joleneshieldshypnotherapy.com/event/self-hypnosis-class-2/
LOCATION:UT
END:VEVENT
BEGIN:VEVENT
DTSTART;TZID=UTC:20170929T190000
DTEND;TZID=UTC:20170929T200000
DTSTAMP:20260424T184852
CREATED:20170829T222306Z
LAST-MODIFIED:20170829T222306Z
UID:1927-1506711600-1506715200@joleneshieldshypnotherapy.com
SUMMARY:Information and Registration Meeting
DESCRIPTION:Open to the public\, come and learn more about this wonderful birthing program.
URL:https://joleneshieldshypnotherapy.com/event/information-and-registration-meeting/
LOCATION:UT
END:VEVENT
BEGIN:VEVENT
DTSTART;TZID=UTC:20170928T190000
DTEND;TZID=UTC:20170928T213000
DTSTAMP:20260424T184852
CREATED:20170829T221542Z
LAST-MODIFIED:20170829T221542Z
UID:1918-1506625200-1506634200@joleneshieldshypnotherapy.com
SUMMARY:HypnoBirthing Class #4
DESCRIPTION:
URL:https://joleneshieldshypnotherapy.com/event/hypnobirthing-class-4-16/
LOCATION:UT
END:VEVENT
BEGIN:VEVENT
DTSTART;TZID=UTC:20170921T190000
DTEND;TZID=UTC:20170921T223000
DTSTAMP:20260424T184852
CREATED:20170829T221500Z
LAST-MODIFIED:20170829T221500Z
UID:1916-1506020400-1506033000@joleneshieldshypnotherapy.com
SUMMARY:HypnoBirthing Class #3
DESCRIPTION:
URL:https://joleneshieldshypnotherapy.com/event/hypnobirthing-class-3-11/
LOCATION:UT
END:VEVENT
END:VCALENDAR